BEGIN:VCALENDAR
VERSION:2.0
PRODID:-//Patriot Guard Riders - ECPv5.3.2.1//NONSGML v1.0//EN
CALSCALE:GREGORIAN
METHOD:PUBLISH
X-WR-CALNAME:Patriot Guard Riders
X-ORIGINAL-URL:https://www.patriotguard.org
X-WR-CALDESC:Events for Patriot Guard Riders
BEGIN:VTIMEZONE
TZID:America/New_York
BEGIN:DAYLIGHT
TZOFFSETFROM:-0500
TZOFFSETTO:-0400
TZNAME:EDT
DTSTART:20190310T070000
END:DAYLIGHT
BEGIN:STANDARD
TZOFFSETFROM:-0400
TZOFFSETTO:-0500
TZNAME:EST
DTSTART:20191103T060000
END:STANDARD
END:VTIMEZONE
BEGIN:VEVENT
DTSTART;VALUE=DATE:20190819
DTEND;VALUE=DATE:20190820
DTSTAMP:20210402T145726
CREATED:20190815T154014Z
LAST-MODIFIED:20190815T154014Z
UID:170780-1566172800-1566259199@www.patriotguard.org
SUMMARY:Steven Wesley Dull
DESCRIPTION:Honor Mission\nSteven Wesley Dull\, Veteran\nUSAF\, USAFR\nBallwin\, Missouri – 08-19-19\n\n\n\n\nABOUT THE MISSION: \nIt is a most distinct honor and a privilege for the Patriot Guard Riders\, at the family’s request\, to stand a flag line for United States Air Force veteran Steven Wesley Dull\, 65\, and escort him to his final resting place at Jefferson Barracks National Cemetery with full Military Honors.\nVeteran Dull served in the U.S. Air Force from June 1972 until July 1979 with overseas service in Turkey\, Japan and the Philippines Veteran Dull attained the rank of Sr. A (E-4) as a Systems Specialist for Military Intelligence\, NSA. Commendations received included the National Defense Service Medal\, Good Conduct Medal and the Longevity Service Award.\n\n\nPRIMARY STAGING DETAILS: 08-19-19 \nStaging Time: 9:45 a.m.\n \nSchrader Funeral Home\n14960 Manchester Rd. (at Holloway Road)(I-270\, exit 9 Manchester west\, at Holloway Road)\nBallwin\, Missouri 63011\n\n\nRide Captain: \nDan “Lt. Dan” Doerer\, (314) 576-5856\, j_d_doerer@att.net\nFlags & Support:  Mike and Malia “Mr. and Mrs. Moose” Hanewinkel\n\n\nSpecial Instructions: \nAssemble on the east side of the funeral home. Escort only.\n9:45 am: Stage\, Ride Meeting\, Escort alignment.\n10:15 am: Est. time of escort to Jefferson Barracks NC (19 miles)\n11:00 am: Committal Service with Military Honors and interment.\nThe current NWS forecast during this mission is 82º – 86º\, with a 11% chance of rain. Check the weather on the day of the mission. Travel and dress accordingly. Please hydrate!. Any type of vehicle is welcome.\n\n\nFlags & Water:\nFlags will be provided\nIf you have large bike flags\, please bring them.\nWater will be provided.\n\n\nSubmitted By: Dan Doerer \nPosition: Missouri Ride Captain \n\nNote: You do not have to own/ride a motorcycle or be a veteran to join\, and membership is Free. The only requirement is RESPECT! To subscribe to receive mission notices\, log into the National Site and click on the Members tab at the top. Select the Subscribe to PGR Missions option.\n Print This Page
URL:https://www.patriotguard.org/mission/steven-wesley-dull/
CATEGORIES:Honor Mission
END:VEVENT
END:VCALENDAR