BEGIN:VCALENDAR
VERSION:2.0
PRODID:-//Patriot Guard Riders - ECPv5.6.0//NONSGML v1.0//EN
CALSCALE:GREGORIAN
METHOD:PUBLISH
X-WR-CALNAME:Patriot Guard Riders
X-ORIGINAL-URL:https://www.patriotguard.org
X-WR-CALDESC:Events for Patriot Guard Riders
BEGIN:VTIMEZONE
TZID:America/New_York
BEGIN:DAYLIGHT
TZOFFSETFROM:-0500
TZOFFSETTO:-0400
TZNAME:EDT
DTSTART:20160313T070000
END:DAYLIGHT
BEGIN:STANDARD
TZOFFSETFROM:-0400
TZOFFSETTO:-0500
TZNAME:EST
DTSTART:20161106T060000
END:STANDARD
END:VTIMEZONE
BEGIN:VEVENT
DTSTART;TZID=America/New_York:20160603T090000
DTEND;TZID=America/New_York:20160603T110000
DTSTAMP:20210513T083104
CREATED:20160603T130000Z
LAST-MODIFIED:20191201T145544Z
UID:411708-1464944400-1464951600@www.patriotguard.org
SUMMARY:Steven Roy South
DESCRIPTION:Steven Roy South\nUS Army Veteran\nPortland\, OR\n3/JUN/16\n\n\n\nLadies and Gentlemen of the Patriot Guard Riders\, we have been requested to stand for U.S. Army Veteran\, Steven Roy South.  Please join us as we help support his family\, pay our respects\, and honor his service to our nation. \nMission Date: Friday\, 3/JUN/16 \nRide Captain:\nBlue Bickford   \ndrbluepsu@gmail.com \nStaging Location: Willamette National Cemetery – 11800 SE Mt Scott Blvd.\, Portland\, OR – up top at the Rostrum by the flagpole\, please enter the cemetery through Gate 2 – across from Lincoln Memorial. \nStaging Time:  8:00 am\nBriefing:  8:20 am\nKSU:  8:30 am\nFlag line Set:  8:45 am\nService Begins: 9:00 am \n*** There will be a RHG from the office to the shelter.
URL:https://www.patriotguard.org/mission/steven-roy-south/
CATEGORIES:Archive
END:VEVENT
END:VCALENDAR