BEGIN:VCALENDAR
VERSION:2.0
PRODID:-//Patriot Guard Riders - ECPv5.3.2.1//NONSGML v1.0//EN
CALSCALE:GREGORIAN
METHOD:PUBLISH
X-WR-CALNAME:Patriot Guard Riders
X-ORIGINAL-URL:https://www.patriotguard.org
X-WR-CALDESC:Events for Patriot Guard Riders
BEGIN:VTIMEZONE
TZID:America/New_York
BEGIN:DAYLIGHT
TZOFFSETFROM:-0500
TZOFFSETTO:-0400
TZNAME:EDT
DTSTART:20210314T070000
END:DAYLIGHT
BEGIN:STANDARD
TZOFFSETFROM:-0400
TZOFFSETTO:-0500
TZNAME:EST
DTSTART:20211107T060000
END:STANDARD
END:VTIMEZONE
BEGIN:VEVENT
DTSTART;VALUE=DATE:20210401
DTEND;VALUE=DATE:20210402
DTSTAMP:20210403T000917
CREATED:20210330T223024Z
LAST-MODIFIED:20210330T223024Z
UID:573387-1617235200-1617321599@www.patriotguard.org
SUMMARY:Steven Olson
DESCRIPTION:Honor Mission\nSteven Olson\, Veteran\nUSA –\nDuncan\, Oklahoma – 04-01-21\n\n\n\nABOUT THE MISSION: \nThe family of Steven Olson\, US Army Veteran\, has asked the Patriot Guard to stand in honor of their fallen Hero. Services will be Thursday at 2:00 pm.  Interment will be at the Fairlawn Cemetery in Comanche\, Ok. following chapel service.\n\n\nPRIMARY STAGING DETAILS: 04-01-21 \nStaging Time: 1:00 PM\n \nBailes/Polk Funeral Home\n910 Oak Ave\nDuncan\, Oklahoma 73533\n\n\nRide Captain: \nJerry “Shepard” Wilson\n1-580-467-4648\njerryw_46@yahoo.com\n\n\nSpecial Instructions: \nBriefing: 1:15 pm. Must attend to ride accompaniment.\nThe Stephens County Honor Guard will render full military honors.\n\n\nFlags & Water:\nFlags will be provided\nIf you have large bike flags\, please bring them.\nWater WILL NOT be provided\, please bring your own.\n\n\nSubmitted By: Jerry Wilson \nPosition: Oklahoma Ride Captain \n\nNote: You do not have to own/ride a motorcycle or be a veteran to join\, and membership is Free. The only requirement is RESPECT! To subscribe to receive mission notices\, log into the National Site and click on the Members tab at the top. Select the Subscribe to PGR Missions option.\n Print This Page
URL:https://www.patriotguard.org/mission/steven-olson/
CATEGORIES:Honor Mission
END:VEVENT
END:VCALENDAR