BEGIN:VCALENDAR
VERSION:2.0
PRODID:-//Patriot Guard Riders - ECPv5.6.0//NONSGML v1.0//EN
CALSCALE:GREGORIAN
METHOD:PUBLISH
X-WR-CALNAME:Patriot Guard Riders
X-ORIGINAL-URL:https://www.patriotguard.org
X-WR-CALDESC:Events for Patriot Guard Riders
BEGIN:VTIMEZONE
TZID:America/New_York
BEGIN:DAYLIGHT
TZOFFSETFROM:-0500
TZOFFSETTO:-0400
TZNAME:EDT
DTSTART:20160313T070000
END:DAYLIGHT
BEGIN:STANDARD
TZOFFSETFROM:-0400
TZOFFSETTO:-0500
TZNAME:EST
DTSTART:20161106T060000
END:STANDARD
END:VTIMEZONE
BEGIN:VEVENT
DTSTART;TZID=America/New_York:20160711T090000
DTEND;TZID=America/New_York:20160711T110000
DTSTAMP:20210512T133749
CREATED:20160711T130000Z
LAST-MODIFIED:20191201T144444Z
UID:410707-1468227600-1468234800@www.patriotguard.org
SUMMARY:Steven Doyle Horne
DESCRIPTION:Steven Doyle Horne\nUS Army\nOkmulgee\, OK\n11 Jul 16 \n\n\n\nThe family of US Army Veteran Steven Doyle Horne has asked the PGR to stand a Flag Line at his services to be held on Monday\, 11 July 2016 at Okmulgee\, OK. \nServices will be held at\nMcClendon-Winters Funeral Home Chapel\n303 E 7th St\, Okmulgee\, OK at 1000. \nInterment will follow at\nOkmulgee Cemetery\n2300 South Wood Dr.\nOkmulgee\, OK. \nThere is a possibility that the PGR will perform Military Honors. \nDATE: Monday\, 11 July 2016 \nSTAGING: 0830 \nMcClendon-Winters Funeral Home\n303 E 7th St\nOkmulgee\, OK \nMANDATORY BRIEFING: 0900 \nRiders must attend Briefing if riding in escort. \nFLAG LINE: Immediately following the briefing \nWEATHER: Forecast temp of 95 and sunny—Hydrate-Hydrate-Hydrate! \nRCIC:\nMike “Penni” Pennington\nwmp8843@cox.net\n918-557-1030 \nASSISTING:\nTom “Jester” Pope\ntom.pope1@cox.net\n918-740-1026
URL:https://www.patriotguard.org/mission/steven-doyle-horne/
CATEGORIES:Archive
END:VEVENT
END:VCALENDAR