BEGIN:VCALENDAR
VERSION:2.0
PRODID:-//Patriot Guard Riders - ECPv5.3.2.1//NONSGML v1.0//EN
CALSCALE:GREGORIAN
METHOD:PUBLISH
X-WR-CALNAME:Patriot Guard Riders
X-ORIGINAL-URL:https://www.patriotguard.org
X-WR-CALDESC:Events for Patriot Guard Riders
BEGIN:VTIMEZONE
TZID:America/New_York
BEGIN:DAYLIGHT
TZOFFSETFROM:-0500
TZOFFSETTO:-0400
TZNAME:EDT
DTSTART:20190310T070000
END:DAYLIGHT
BEGIN:STANDARD
TZOFFSETFROM:-0400
TZOFFSETTO:-0500
TZNAME:EST
DTSTART:20191103T060000
END:STANDARD
END:VTIMEZONE
BEGIN:VEVENT
DTSTART;VALUE=DATE:20190819
DTEND;VALUE=DATE:20190820
DTSTAMP:20210402T070044
CREATED:20190818T112713Z
LAST-MODIFIED:20190818T112713Z
UID:171214-1566172800-1566259199@www.patriotguard.org
SUMMARY:Steve Shaw
DESCRIPTION:Honor Mission\nSteve Shaw\, Veteran\nUSN – Vietnam\nRoseburg\, Oregon – 08-19-19\n\n\n\nABOUT THE MISSION: \nLadies and Gentlemen of the Patriot Guard Riders\, we have been requested by family and friends to provide a flag line and stand for US Navy Vietnam Veteran Steve Shaw. He returned home to further serve his community as a Fire Fighter. Steve took great pride in his patriotism\, his service and his duty as a Fireman. Please join us as we help support his family\, pay our respects\, and honor his service to our country and community.\n\n\nPRIMARY STAGING DETAILS: 08-19-19 \nStaging Time: 10:15 AM\n \nRoseburg National Cemetery Annex\n1770 W Harvard Ave\nRoseburg\, Oregon 97470\nMap\n\n\nRide Captain: \nSparky/Terry Mooney\nlinda.mooney@earthlink.net\n\n\nSpecial Instructions: \nSouth Entrance of the VAHCS off West Harvard\nBriefing: 10:20 am\nFlag line Set: 10:30 am\nService Begins: 11:00 am\n\n\nFlags & Water:\nFlags will be provided\nLarge Bike Flags will NOT be needed.\nWater WILL NOT be provided\, please bring your own.\n\n\n\nSubmitted By: John Hanan II \nPosition: Oregon State Captain \n\nNote: You do not have to own/ride a motorcycle or be a veteran to join\, and membership is Free. The only requirement is RESPECT! To subscribe to receive mission notices\, log into the National Site and click on the Members tab at the top. Select the Subscribe to PGR Missions option.\n Print This Page
URL:https://www.patriotguard.org/mission/steve-shaw/
CATEGORIES:Honor Mission
END:VEVENT
END:VCALENDAR