BEGIN:VCALENDAR
VERSION:2.0
PRODID:-//Patriot Guard Riders - ECPv5.3.2.1//NONSGML v1.0//EN
CALSCALE:GREGORIAN
METHOD:PUBLISH
X-WR-CALNAME:Patriot Guard Riders
X-ORIGINAL-URL:https://www.patriotguard.org
X-WR-CALDESC:Events for Patriot Guard Riders
BEGIN:VTIMEZONE
TZID:America/New_York
BEGIN:DAYLIGHT
TZOFFSETFROM:-0500
TZOFFSETTO:-0400
TZNAME:EDT
DTSTART:20190310T070000
END:DAYLIGHT
BEGIN:STANDARD
TZOFFSETFROM:-0400
TZOFFSETTO:-0500
TZNAME:EST
DTSTART:20191103T060000
END:STANDARD
END:VTIMEZONE
BEGIN:VEVENT
DTSTART;VALUE=DATE:20190831
DTEND;VALUE=DATE:20190901
DTSTAMP:20210402T085003
CREATED:20190827T162848Z
LAST-MODIFIED:20190827T162848Z
UID:172065-1567209600-1567295999@www.patriotguard.org
SUMMARY:Steve Selfridge
DESCRIPTION:Honor Mission\nSteve Selfridge\, Veteran\, PGR\nUSA\nCarl Junction\, Missouri – 08-31-19\n\n\n\nABOUT THE MISSION: \nSteve served in the U.S. Army as a Military Policeman\, stationed in Alaska during the Vietnam era. He also served as a Ride Captain and a Senior Ride Captain for the Patriot Guard Riders in Southwest Missouri.\n\n\nPRIMARY STAGING DETAILS: 08-31-19 \nStaging Time: 9:30 am  \nChurch of the Nazarene\n403 S Cowgill Street\nCarl Junction\, Missouri 64834\n\n\nRide Captain: \nRobert L. “Bob” Meeks\nhorizonstravel@sbcglobal.net\ncell 417-437-0719\n\n\nSpecial Instructions: \nStage and briefing at 9:30 am\nFlag line in place by 9:45 am\nVisitation 10:00 am to 11:00 am\nMemorial service beginning at 11 a.m.\nThis is a flag line only mission\, no escort. The flag line will be retired in time for PGR members to attend the service.If you plan to ride in\, bring a bike flag to be displayed while parked.\n\n\nFlags & Water:\nFlags will be provided\nIf you have large bike flags\, please bring them.\nWater WILL NOT be provided\, please bring your own.\n\n\nSubmitted By: Robert Meeks \nPosition: Missouri Ride Captain \n\nNote: You do not have to own/ride a motorcycle or be a veteran to join\, and membership is Free. The only requirement is RESPECT! To subscribe to receive mission notices\, log into the National Site and click on the Members tab at the top. Select the Subscribe to PGR Missions option.\n Print This Page
URL:https://www.patriotguard.org/mission/steve-selfridge/
CATEGORIES:Honor Mission
END:VEVENT
END:VCALENDAR