BEGIN:VCALENDAR
VERSION:2.0
PRODID:-//Patriot Guard Riders - ECPv5.6.0//NONSGML v1.0//EN
CALSCALE:GREGORIAN
METHOD:PUBLISH
X-WR-CALNAME:Patriot Guard Riders
X-ORIGINAL-URL:https://www.patriotguard.org
X-WR-CALDESC:Events for Patriot Guard Riders
BEGIN:VTIMEZONE
TZID:America/New_York
BEGIN:DAYLIGHT
TZOFFSETFROM:-0500
TZOFFSETTO:-0400
TZNAME:EDT
DTSTART:20210314T070000
END:DAYLIGHT
BEGIN:STANDARD
TZOFFSETFROM:-0400
TZOFFSETTO:-0500
TZNAME:EST
DTSTART:20211107T060000
END:STANDARD
END:VTIMEZONE
BEGIN:VEVENT
DTSTART;VALUE=DATE:20210511
DTEND;VALUE=DATE:20210512
DTSTAMP:20210513T033958
CREATED:20210511T120437Z
LAST-MODIFIED:20210511T120610Z
UID:576981-1620691200-1620777599@www.patriotguard.org
SUMMARY:Steve C. Reuther
DESCRIPTION:Honor Mission\nSteve C. Reuther\, Veteran\nUSA \, Vietnam\nCreve Coeur\, Missouri – 05-11-21\n\n\n\nABOUT THE MISSION: \nWe will stand a flag-line to honor the life and service to our country\, of Steve C. Reuther. Veteran Reuther served in the United States Army and was a Vietnam veteran. He served honorably and fulfilled his duties with courage. He left his family and friends at home to bravely fight for the freedoms we have today. We honor you for your service and sacrifice to our country.\n\n\nPRIMARY STAGING DETAILS: 05-11-21 \nStaging: 9:15 AM\n \nOrtmann-Stipanovich Funeral Home\n12444 Olive Blvd\nCreve Coeur\, Missouri 63141\n\n\nRide Captain: \nNeil “Nitehawk” Hill\nnitehawk.pgr@gmail.com\n314-808-2568\n\n\nSpecial Instructions: \nRide meeting to follow staging.\nEscort only: 9:40 AM\, to St Monica Catholic Church.\nMass: 10:00 AM. Military honors at graveside\, on church grounds 11:15 AM (eta).\nWeather is expected to be partly sunny with a temperature range of 44 – 65 degrees. Hydrate to be safe through this mission. Cages are always welcome!\nNote: Masks are required and we will practice social distancing in order to help prevent the spread of Coronavirus (COVID-19). If you are not feeling well the day of the mission or have symptoms of a cough\, high temperature and shortness of breath\, please stay at home.\nFlag support: Rich “Poor Man” Harden\n\n\nFlags & Water:\nFlags will be provided\nIf you have large bike flags\, please bring them.\nWater will be provided.\n\nSubmitted By: Neil Hill \nPosition: Missouri Ride Captain \n\nNote: You do not have to own/ride a motorcycle or be a veteran to join\, and membership is Free. The only requirement is RESPECT! To subscribe to receive mission notices\, log into the National Site and click on the Members tab at the top. Select the Subscribe to PGR Missions option.\n Print This Page
URL:https://www.patriotguard.org/mission/steve-c-reuther/
CATEGORIES:Honor Mission
END:VEVENT
END:VCALENDAR