BEGIN:VCALENDAR
VERSION:2.0
PRODID:-//Patriot Guard Riders - ECPv5.3.2.1//NONSGML v1.0//EN
CALSCALE:GREGORIAN
METHOD:PUBLISH
X-WR-CALNAME:Patriot Guard Riders
X-ORIGINAL-URL:https://www.patriotguard.org
X-WR-CALDESC:Events for Patriot Guard Riders
BEGIN:VTIMEZONE
TZID:America/New_York
BEGIN:DAYLIGHT
TZOFFSETFROM:-0500
TZOFFSETTO:-0400
TZNAME:EDT
DTSTART:20190310T070000
END:DAYLIGHT
BEGIN:STANDARD
TZOFFSETFROM:-0400
TZOFFSETTO:-0500
TZNAME:EST
DTSTART:20191103T060000
END:STANDARD
END:VTIMEZONE
BEGIN:VEVENT
DTSTART;VALUE=DATE:20190814
DTEND;VALUE=DATE:20190815
DTSTAMP:20210402T090851
CREATED:20190813T090452Z
LAST-MODIFIED:20190813T090452Z
UID:170709-1565740800-1565827199@www.patriotguard.org
SUMMARY:Steve Beard
DESCRIPTION:Honor Mission\nSteve Beard\, Retired\nUSAF – Vietnam\nMaple Valley\, Washington – 08-14-19\n\n\n\nABOUT THE MISSION: \nLadies and Gentlemen of the Patriot Guard Riders\,\nWe have been invited by the family and friends of U.S. Air Force Tech Sgt. Steve Beard to stand at his final military honors.\nTSgt Beard served 23 years in the USAF\, including time in Vietnam. Mrs. Beard said that Steve had a drawer full of medals and ribbons\, but the only one that she really commented on was his Purple Heart.\nSteve also rode with the Knights Paladin MC and they will be escorting him and Mrs. Beard to the service site.\n\n\nPRIMARY STAGING DETAILS: 08-14-19 \nStaging Time: 2:00 pm\n \nMcDonald’s\n23225 Maple Valley Black Diamond Hwy\nMaple Valley\, Washington 98038\n\n\nRide Captain: \nTBD\n\n\nSpecial Instructions: \nSchedule: 2:00 pm – Riders arrive & sign in\n2:15 pm – Mission Briefing\n2:30 pm – KSU\n2:45 pm – Flag line in place\n3:00 pm – Service begins\n3:30 pm – or end of service debrief & quietly fade away\nWeather is supposed to be mostly clear and in the upper 70’s\nSupport Vehicle – CathyLee “HotWheelz” Ryan\, hotwheelz65@gmail.com\, 206-380-9429\n\n\nFlags & Water:\nFlags will be provided\nLarge Bike Flags will NOT be needed.\nWater will be provided.\n\n\n\nSubmitted By: Sabrina Brown \nPosition: Washington State Captain \n\nNote: You do not have to own/ride a motorcycle or be a veteran to join\, and membership is Free. The only requirement is RESPECT! To subscribe to receive mission notices\, log into the National Site and click on the Members tab at the top. Select the Subscribe to PGR Missions option.\n Print This Page
URL:https://www.patriotguard.org/mission/steve-beard/
CATEGORIES:Honor Mission
END:VEVENT
END:VCALENDAR