BEGIN:VCALENDAR
VERSION:2.0
PRODID:-//Patriot Guard Riders - ECPv5.3.2.1//NONSGML v1.0//EN
CALSCALE:GREGORIAN
METHOD:PUBLISH
X-WR-CALNAME:Patriot Guard Riders
X-ORIGINAL-URL:https://www.patriotguard.org
X-WR-CALDESC:Events for Patriot Guard Riders
BEGIN:VTIMEZONE
TZID:America/New_York
BEGIN:DAYLIGHT
TZOFFSETFROM:-0500
TZOFFSETTO:-0400
TZNAME:EDT
DTSTART:20190310T070000
END:DAYLIGHT
BEGIN:STANDARD
TZOFFSETFROM:-0400
TZOFFSETTO:-0500
TZNAME:EST
DTSTART:20191103T060000
END:STANDARD
END:VTIMEZONE
BEGIN:VEVENT
DTSTART;VALUE=DATE:20190815
DTEND;VALUE=DATE:20190816
DTSTAMP:20210402T150641
CREATED:20190812T180439Z
LAST-MODIFIED:20190812T180929Z
UID:170217-1565827200-1565913599@www.patriotguard.org
SUMMARY:Sterling Geary\, Jr.
DESCRIPTION:Honor Mission\nSterling Geary\, Jr.\, KIA\nUSA – Korea\nDallas\, Texas – 08-15-19\n\n\nABOUT THE MISSION: \n\nSterling Geary\, Jr. (POW) was born on July 23\, 1926. While captured as a Prisoner of War (Korean War)\, it is believed that he passed away on March 31\, 1951.Private First Class Sterling Geary\, Jr.\, was a soldier in the United States Army.\n\n\nPRIMARY STAGING DETAILS: 08-15-19 \nStaging Time: 9:15 am  \nDFW National Cemetery\n2000 Mountain Creek Pkwy\nDallas\, Texas 75211\n\n\nRide Captain: \nMRC: Mike Flocken\nmikefl@flash.net\n(214) 458-4473\n\nMike Moore\nevermoore58@gmail.com\n(817) 228-3240\n\n\nSpecial Instructions: \nService Staging Time: 9:15 am\nBriefing Time: 9:30 am\nIn Position/KSU Time: 9:45 am\nStarting Time: 10:00\nThis inurnment service is a follow-up to the mission that brought the remains of PFC Geary home on August 7th.\nAll riders will stage at the Visitor’s Center\, where the mission brief will be given. Flag bikes will be chosen and relocated to the assigned staging lane. Remaining riders will proceed on to the shelter to set flags and prepare for the arrival of the procession bringing PFC Geary\, his family and friends.\nAt the conclusion of the committal service\, and at the direction of the ride captain\, the flags will be retrieved and returned to the shelter storage area\, where they will be furled and stowed. After the post mission brief\, all riders will be dismissed.\n\n\nFlags & Water:\nFlags will be provided\nIf you have large bike flags\, please bring them.\nWater will be provided.\n\n\nSubmitted By: Dan Mathys \nPosition: Texas Ride Captain \n\nNote: You do not have to own/ride a motorcycle or be a veteran to join\, and membership is Free. The only requirement is RESPECT! To subscribe to receive mission notices\, log into the National Site and click on the Members tab at the top. Select the Subscribe to PGR Missions option.\n Print This Page
URL:https://www.patriotguard.org/mission/sterling-geary-jr/
CATEGORIES:Honor Mission
END:VEVENT
END:VCALENDAR