BEGIN:VCALENDAR
VERSION:2.0
PRODID:-//Patriot Guard Riders - ECPv5.3.2.1//NONSGML v1.0//EN
CALSCALE:GREGORIAN
METHOD:PUBLISH
X-WR-CALNAME:Patriot Guard Riders
X-ORIGINAL-URL:https://www.patriotguard.org
X-WR-CALDESC:Events for Patriot Guard Riders
BEGIN:VTIMEZONE
TZID:America/New_York
BEGIN:DAYLIGHT
TZOFFSETFROM:-0500
TZOFFSETTO:-0400
TZNAME:EDT
DTSTART:20130310T070000
END:DAYLIGHT
BEGIN:STANDARD
TZOFFSETFROM:-0400
TZOFFSETTO:-0500
TZNAME:EST
DTSTART:20131103T060000
END:STANDARD
END:VTIMEZONE
BEGIN:VEVENT
DTSTART;TZID=America/New_York:20131217T090000
DTEND;TZID=America/New_York:20131217T110000
DTSTAMP:20210405T193920
CREATED:20131217T140000Z
LAST-MODIFIED:20191201T134835Z
UID:404736-1387270800-1387278000@www.patriotguard.org
SUMMARY:Stephen Siuta\, USA\, WWII Veteran
DESCRIPTION:Dear Members: \nWe have been asked to stand for one of our “Greatest Generation”\,  Mr. Stephen Siuta a WWII Army veteran.  Mr. Siuta served in the European theater in such battles as Normandy\, Northern France\, and the Ardennes Forest.  He earned 5 battle stars\, and the European-African-Middle Eastern medal amongst others.  He was the past Commander of the American Legion and recently traveled to Washington DC with the WNY Honor Flight to visit the WWII Memorial with his son.  Mr. Siuta was a teacher\, realtor\, surveyor and a pillar of his community. \nClick here to view his obituary. \nWe will stand a flag line for his burial Mass and at his burial as well. \nWhen:\nTuesday\, Dec 17\, 2013. Staging at 0900 AM. \nWhere:\nDivine Mercy Parish church\n2437 Niagara St.\nNiagara Falls\, NY \nCemetery:\nHoly Trinity Cemetery\nRoberts Rd.\nLewiston\, NY \n\nLRC: \nJeff Perkins\njtperkins1@yahoo.com \nPlease join me as we honor a true American Hero.  We will have winter weather so please dress for it.  Please bring a clean 3X5 American flag.\nThank you for all you do.  God Bless America! \n\nJeff Perkins\nRide Captain\nRegion 1\nPatriot Guard Riders\njtperkins1@yahoo.com
URL:https://www.patriotguard.org/mission/stephen-siuta-usa-wwii-veteran/
CATEGORIES:Archive
END:VEVENT
END:VCALENDAR