BEGIN:VCALENDAR
VERSION:2.0
PRODID:-//Patriot Guard Riders - ECPv5.3.2.1//NONSGML v1.0//EN
CALSCALE:GREGORIAN
METHOD:PUBLISH
X-WR-CALNAME:Patriot Guard Riders
X-ORIGINAL-URL:https://www.patriotguard.org
X-WR-CALDESC:Events for Patriot Guard Riders
BEGIN:VTIMEZONE
TZID:America/New_York
BEGIN:DAYLIGHT
TZOFFSETFROM:-0500
TZOFFSETTO:-0400
TZNAME:EDT
DTSTART:20190310T070000
END:DAYLIGHT
BEGIN:STANDARD
TZOFFSETFROM:-0400
TZOFFSETTO:-0500
TZNAME:EST
DTSTART:20191103T060000
END:STANDARD
END:VTIMEZONE
BEGIN:VEVENT
DTSTART;VALUE=DATE:20190904
DTEND;VALUE=DATE:20190905
DTSTAMP:20210401T131609
CREATED:20190902T214438Z
LAST-MODIFIED:20190902T214438Z
UID:172572-1567555200-1567641599@www.patriotguard.org
SUMMARY:Stephen Roger Long
DESCRIPTION:Honor Mission\nStephen Roger Long\, Veteran\nUSMC – Vietnam\nCanton\, Georgia – 09-04-19\n\n\nABOUT THE MISSION:\n\n\nIt is my sad duty to announce the passing of another Vietnam veteran. The family of United States Marine Corps Vietnam veteran Stephen Roger Long has asked the Patriot Guard Riders to participate in his final service and it will be our honor and privilege to do so. Mr. Long stood for us and now it’s time for us to stand for him. He was 72 years old when he passed away.\n\n\nPRIMARY STAGING DETAILS: 09-04-19 \nStaging Time: 12:45 pm \nGeorgia National Cemetery\n1080 Scott Hudgens Dr.\nCanton\, Georgia 30114\n\n\nRide Captain: \nRaymond ‘Arizona’ Myers\n770-312-3386\nhorseplay2@aol.com\n\n\nSpecial Instructions: \nService for this mission is at 1:30 pm. Stage at the MIA/POW flag pole. Bikes on right sidewalk\, cages on right curb before or after the flag pole. Do not block the street. After a short briefing we will head to the assigned shelter.\n\n\nFlags & Water:\n\nFlags will be provided\nLarge Bike Flags will NOT be needed.\nWater will be provided.\n\n\n\nSubmitted By: Raymond Myers \nPosition: Georgia Ride Captain \n\nNote: You do not have to own/ride a motorcycle or be a veteran to join\, and membership is Free. The only requirement is RESPECT! To subscribe to receive mission notices\, log into the National Site and click on the Members tab at the top. Select the Subscribe to PGR Missions option.\n Print This Page
URL:https://www.patriotguard.org/mission/stephen-roger-long/
CATEGORIES:Honor Mission
END:VEVENT
END:VCALENDAR