BEGIN:VCALENDAR
VERSION:2.0
PRODID:-//Patriot Guard Riders - ECPv5.6.0//NONSGML v1.0//EN
CALSCALE:GREGORIAN
METHOD:PUBLISH
X-WR-CALNAME:Patriot Guard Riders
X-ORIGINAL-URL:https://www.patriotguard.org
X-WR-CALDESC:Events for Patriot Guard Riders
BEGIN:VTIMEZONE
TZID:America/New_York
BEGIN:DAYLIGHT
TZOFFSETFROM:-0500
TZOFFSETTO:-0400
TZNAME:EDT
DTSTART:20160313T070000
END:DAYLIGHT
BEGIN:STANDARD
TZOFFSETFROM:-0400
TZOFFSETTO:-0500
TZNAME:EST
DTSTART:20161106T060000
END:STANDARD
END:VTIMEZONE
BEGIN:VEVENT
DTSTART;TZID=America/New_York:20160531T090000
DTEND;TZID=America/New_York:20160531T110000
DTSTAMP:20210513T155152
CREATED:20160531T130000Z
LAST-MODIFIED:20191201T145600Z
UID:411732-1464685200-1464692400@www.patriotguard.org
SUMMARY:Stephen Irby\, USN
DESCRIPTION:E3 Stephen Irby\nUS Navy Vietnam Veteran\nAlabama State Veterans Memorial Cemetery in Spanish Fort\n31 May 2016\, Tuesday\n\n\n\nFellow Riders\, \nIt is with heavy heart that I must inform you that Alabama and America has lost another true American hero.  The family of Stephen Irby has requested the Patriot Guard to stand on honor of their loved one.  Mr. Irby was in the US Navy in Vietnam and was awarded the Vietnam Service Ribbon\, Combat Action Ribbon and an Honorable Discharge.  Other awards and commendations are unknown at this time. \nThis will be an ESCORT ONLY from Hughes Funeral Home to Alabama State Veterans Memorial Cemetery. \nWe shall stand a flag line at the Committal Shelter \nVisitation: N/A – Hughes Funeral Home\, 7951 American Way\, Daphne\, AL \nFuneral Service:  N/A – Hughes Funeral Home\, 7951 American Way\, Daphne\, AL \nEscort: 9:00 a.m.  LEO – YES \nCommittal Shelter: 10:00 a.m. at Alabama State Veterans Memorial Cemetery. \nStaging \nScenic Overlook at Spanish Fort (NW corner I-10 and Hwy 98) \nTime: 8:00 a.m. \nBriefing: 8:15 a.m. \nKSU: 8:30 a.m. \nRCIC:\nEd “Juju” Lessard\, RC\n(251) 978-6215 \nFlags: At the Committal Shelter \nHonor Guard:  YES \nMr. Irby stood many a hard day and night for us so that we might be safe and free. Now it’s our turn to stand for him. \nWith Respect\,\nLloyd Pursley\, DRC
URL:https://www.patriotguard.org/mission/stephen-irby-usn/
CATEGORIES:Archive
END:VEVENT
END:VCALENDAR