BEGIN:VCALENDAR
VERSION:2.0
PRODID:-//Patriot Guard Riders - ECPv5.3.2.1//NONSGML v1.0//EN
CALSCALE:GREGORIAN
METHOD:PUBLISH
X-WR-CALNAME:Patriot Guard Riders
X-ORIGINAL-URL:https://www.patriotguard.org
X-WR-CALDESC:Events for Patriot Guard Riders
BEGIN:VTIMEZONE
TZID:America/New_York
BEGIN:DAYLIGHT
TZOFFSETFROM:-0500
TZOFFSETTO:-0400
TZNAME:EDT
DTSTART:20190310T070000
END:DAYLIGHT
BEGIN:STANDARD
TZOFFSETFROM:-0400
TZOFFSETTO:-0500
TZNAME:EST
DTSTART:20191103T060000
END:STANDARD
END:VTIMEZONE
BEGIN:VEVENT
DTSTART;VALUE=DATE:20190829
DTEND;VALUE=DATE:20190830
DTSTAMP:20210402T082513
CREATED:20190827T033401Z
LAST-MODIFIED:20190827T033401Z
UID:171947-1567036800-1567123199@www.patriotguard.org
SUMMARY:Stephen Henderson
DESCRIPTION:Honor Mission\nStephen Henderson\, Veteran\nUSA –\nBellingham\, Washington – 08-29-19\n\n\n\nABOUT THE MISSION: \nThe Patriot Guard Riders will honor Corporal Stephen Henderson\, US Army at his memorial service. He served in the US Army from August 1985 until August 1989. The Corporal served at several different duty stations and was awarded the National Defense Service Medal\, Army Service Medal\, Army Commendation medal\, Army Good Conduct Medal\, and Pistol Marksman Badge. He was most recently employed by the City of Bellingham. Stephen was a motorcycle rider and will be delivered to this service on his motorcycle with his son on the back. Please come out and Honor this hero and pay our respects to his family.\n\n\nPRIMARY STAGING DETAILS: 08-29-19 \nStaging Time: 2:45 pm  \n1301 Broadway\nBellingham\, Washington 98225\n\n\nRide Captain: \nDean Thiem (dftcars198@comcast.net 360-969-1755)\n\n\nSpecial Instructions: \n2:30 PM – RC/SV arrive\n2:45 PM – Riders arrive and sign in\n3:00 PM – Mission Brief\n3:15 PM – KSU\n3:30 PM – Arrive service location\, set flag line\n4:00 PM – Service begins\nNote: We will have a Rolling Honor Guard to escort the honoree to the venue. Members will be picked at staging. As Directed: Break down flag line and fade away\n\n\nFlags & Water:\nFlags will be provided\nLarge Bike Flags will NOT be needed.\nWater will be provided.\n\n\nSubmitted By: Dean Thiem \nPosition: Washington Ride Captain \n\nNote: You do not have to own/ride a motorcycle or be a veteran to join\, and membership is Free. The only requirement is RESPECT! To subscribe to receive mission notices\, log into the National Site and click on the Members tab at the top. Select the Subscribe to PGR Missions option.\n Print This Page
URL:https://www.patriotguard.org/mission/stephen-henderson/
CATEGORIES:Honor Mission
END:VEVENT
END:VCALENDAR