BEGIN:VCALENDAR
VERSION:2.0
PRODID:-//Patriot Guard Riders - ECPv5.6.0//NONSGML v1.0//EN
CALSCALE:GREGORIAN
METHOD:PUBLISH
X-WR-CALNAME:Patriot Guard Riders
X-ORIGINAL-URL:https://www.patriotguard.org
X-WR-CALDESC:Events for Patriot Guard Riders
BEGIN:VTIMEZONE
TZID:America/New_York
BEGIN:DAYLIGHT
TZOFFSETFROM:-0500
TZOFFSETTO:-0400
TZNAME:EDT
DTSTART:20160313T070000
END:DAYLIGHT
BEGIN:STANDARD
TZOFFSETFROM:-0400
TZOFFSETTO:-0500
TZNAME:EST
DTSTART:20161106T060000
END:STANDARD
END:VTIMEZONE
BEGIN:VEVENT
DTSTART;TZID=America/New_York:20160611T090000
DTEND;TZID=America/New_York:20160611T110000
DTSTAMP:20210513T150618
CREATED:20160611T130000Z
LAST-MODIFIED:20191201T145230Z
UID:411414-1465635600-1465642800@www.patriotguard.org
SUMMARY:Stephen Douglas Brewer\, USMC
DESCRIPTION:Mr. Stephen Douglas Brewer\nUSMC Vietnam Veteran\nArchdale\, NC\nJune 11\, 2016\n\n\n\nWe have been invited to honor the service of Mr. Stephen Douglas Brewer who departed June 6\, 2016 for his final duty station\, and we are honored to do so. \nMr. Brewer passed away on Monday June 6\, 2016 at Wake Forest Baptist Medical Center.  He was a veteran of the USMC\, serving from 1967 – 1971\, he was a Radar Operator.  During his tour he served 13 months in Vietnam.  His service earned him many ribbons including National Defense Service Medal\, Presidential Unit Citation\, Republic Viet Nam Campaign Medal w/clasp\,Viet Nam Service Medal w/5*\, Good Conduct Medal\, Combat Action Ribbon\, Viet Nam Meritorious Unit Gallantry Cross w/Palm & Frame\, Expert Marksman Badge. \nMr. Brewer is survived by his wife\, a son and a daughter and four brothers\, two sisters\, three grandchildren. \nFuneral service for Mr Brewer will be Saturday June 11\, 2016 in the chapel of Sechrest Funeral Service\, 120 Trindale Rd\, Archdale\, NC.  Visitation will be from 11:00AM until 1:00PM\, Service starts at 1:00PM.      \nhttp://binged.it/1sxuwnv \nSTAGING:  10:00AM at Sechrest Funeral Service\, Archdale\, NC \nBRIEFING:  10:15AM \nFollowing the briefing we will form the Flag line for the duration of the visitation which will conclude at 1:00PM.  We will stand down at the start of the service.  Family has asked that we render honors prior to the start of the service.  After rendering honors we will prepare for the escort to his final interment to be held at Floral Garden Cemetery located at 1730 W. English Rd\, High Point\,NC.\nhttp://binged.it/1Pj0CrZ \nThe temperatures are forecast to be in the 90’s Saturday please make sure you stay hydrated. \nI am honored to be the RCIC for this mission and I will be assisted by RCIT Joe Hutson. \nDon J. Bryant\, ADC\ndjbjbryant7@gmail.com\n336 880-6224
URL:https://www.patriotguard.org/mission/stephen-douglas-brewer-usmc/
CATEGORIES:Archive
END:VEVENT
END:VCALENDAR