BEGIN:VCALENDAR
VERSION:2.0
PRODID:-//Patriot Guard Riders - ECPv5.3.2.1//NONSGML v1.0//EN
CALSCALE:GREGORIAN
METHOD:PUBLISH
X-WR-CALNAME:Patriot Guard Riders
X-ORIGINAL-URL:https://www.patriotguard.org
X-WR-CALDESC:Events for Patriot Guard Riders
BEGIN:VTIMEZONE
TZID:America/New_York
BEGIN:DAYLIGHT
TZOFFSETFROM:-0500
TZOFFSETTO:-0400
TZNAME:EDT
DTSTART:20170312T070000
END:DAYLIGHT
BEGIN:STANDARD
TZOFFSETFROM:-0400
TZOFFSETTO:-0500
TZNAME:EST
DTSTART:20171105T060000
END:STANDARD
END:VTIMEZONE
BEGIN:VEVENT
DTSTART;TZID=America/New_York:20170531T140000
DTEND;TZID=America/New_York:20170531T160000
DTSTAMP:20210404T125815
CREATED:20170531T180000Z
LAST-MODIFIED:20191201T042936Z
UID:366015-1496239200-1496246400@www.patriotguard.org
SUMMARY:State Mission Request for 31 May 2017 from Mississippi - Stephen James Williams
DESCRIPTION:Submitted by:\nMember Name:   Sandie Schlett\nPosition:   Assistant State Captain\nCity\, State:   Biloxi\, Mississippi\nUser Name:   SandieSchlett\nEmail:   pgrgulfcoastsandie@gmail.com\n \nEmail Subject Line Setup\n\nPrefix to Use – Honor\nSubject Line –   Stephen James Williams \, USA  –  Biloxi\, Mississippi  – 31 May 2017\n\n\n\n\n\n\n\n\n \n\nMod Instructions:\n\n\n++++++++ Copy the Information above this line++++++++++\n\n \nHonor Mission\n\n*** DO NOT REPLY *** \nThis is an automated message sent to you because you have subscribed to this State’s Mission thread. For current details on this mission\, please follow the link below. \nStephen James Williams \nUSA \nBiloxi\, Mississippi – 31 May 2017\n \n\n\nABOUT THE MISSION:\nHONOR MISSION \nUS Army Veteran\nStephen James Williams (49)\nWednesday 31 May 2017 \nWe are sad to report the death of Mr Stephen James Williams (49)  Mr Williams  received the Army Lapel Button\, M16 Expert Badge\,  Handgrenade Expert Badge\, Parachutist Badge\, Army Good Conduct Medal\, Army Achievement Medal and the Expert Infantry Badge. \nThe family of Mr Williams has requested the Patriot Guard to help honor and pay respect for his service to our country. \nThe Patriot Guard will provide a silent flag line for the 2:30 pm service.\n\nPRIMARY STAGING DETAILS:  31 May 2017\n\nPrimary Staging Time:  2:00 P.M.\nBiloxi National Cemetery\nCommittal Shelter\n400 Veterans Ave\nBiloxi\, Mississippi –\n  \n\nRide Captain:\nRC John Parker\n228-224-4576\n\nSpecial Instructions:\n\n\nFlags & Water:\nFlags Will Be Provided\nLarge Bike Flags will NOT be needed.\nWater WILL NOT be provided\, please bring your own. \nSubmitted By:  Sandie Schlett\nPosition:  Assistant State Captain \n\nNote:\nYou do not have to own/ride a motorcycle or be a Veteran to join and membership is Free. The only requirement is RESPECT! To join\, simply go to www.PatriotGuard.org and click on Register. Membership is Free. \nTo subscribe to receive mission notices\, log into the National Site and click on the Mission Tab at the top. Select Upcoming Missions by State. Scroll to the state(s) you would like to receive notices for and click on the green check mark. Detailed instructions are also located in the FAQs on the site by clicking on the Quick Links Tab and selecting FAQs.
URL:https://www.patriotguard.org/mission/state-mission-request-for-31-may-2017-from-mississippi-stephen-james-williams/
CATEGORIES:Archive
END:VEVENT
END:VCALENDAR