BEGIN:VCALENDAR
VERSION:2.0
PRODID:-//Patriot Guard Riders - ECPv5.3.2.1//NONSGML v1.0//EN
CALSCALE:GREGORIAN
METHOD:PUBLISH
X-WR-CALNAME:Patriot Guard Riders
X-ORIGINAL-URL:https://www.patriotguard.org
X-WR-CALDESC:Events for Patriot Guard Riders
BEGIN:VTIMEZONE
TZID:America/New_York
BEGIN:DAYLIGHT
TZOFFSETFROM:-0500
TZOFFSETTO:-0400
TZNAME:EDT
DTSTART:20170312T070000
END:DAYLIGHT
BEGIN:STANDARD
TZOFFSETFROM:-0400
TZOFFSETTO:-0500
TZNAME:EST
DTSTART:20171105T060000
END:STANDARD
END:VTIMEZONE
BEGIN:VEVENT
DTSTART;TZID=America/New_York:20170531T133700
DTEND;TZID=America/New_York:20170531T153700
DTSTAMP:20210403T043925
CREATED:20170531T173700Z
LAST-MODIFIED:20191201T042839Z
UID:365594-1496237820-1496245020@www.patriotguard.org
SUMMARY:State Mission Request for 31 May 2017 from Georgia - Thomas Clayton Russell
DESCRIPTION:Submitted by:\nMember Name:   Tom Walsh\nPosition:   Assistant State Captain\nCity\, State:   Acworth\, Georgia\nUser Name:   Knobby Walsh\nEmail:   patriotguardrider.tom@gmail.com\n \nEmail Subject Line Setup\n\nPrefix to Use – Honor\nSubject Line – SHORT NOTICE –  Thomas Clayton Russell \, USA \, USAR  –  Canton\, Georgia  – 31 May 2017\n\n\nSHORT NOTICE!\n\n\n\n\n\n \n\nMod Instructions:\nExtreme short notice\nPlease edit as needed and post\nVerified by dd-214\n\n++++++++ Copy the Information above this line++++++++++\n\n \nHonor Mission\n\n*** DO NOT REPLY *** \nThis is an automated message sent to you because you have subscribed to this State’s Mission thread. For current details on this mission\, please follow the link below. \nThomas Clayton Russell \nUSA USAR \nCanton\, Georgia – 31 May 2017\n \n\n\nABOUT THE MISSION:\nIt is my sad duty to inform you of the Passing of another Vietnam Era Veteran.\nMr. Thomas Clayton Russell\, Better Known as Tom Passed away on  May 24 2017 at the age of 74.\nTom was born July 28\, 1942 in Greeley\, Colorado\, to parents Fred and Mary (Shern) Russell. He graduated from East High School in Pueblo\, Colorado in 1960\, and shortly left thereafter to serve in the U.S. Army for a 3-year term.He was a PVTand a Light Truck driver and a marksman with the M-14. After serving in the military\, he worked in a bakery\, and in a steel mill in Pueblo\, all while attaining his Bachelor of Science degree in accounting from Southern Colorado State College in March 1972. He moved to Georgia in 1973 and worked as a Certified Public Accountant until he retired.\nThis will be a flag line only mission at the Georgia National Cemetery. His interment is scheduled for 2:30\n\nPRIMARY STAGING DETAILS:  31 May 2017\n\nPrimary Staging Time:  1:37 P.M.\nGeorgia National Cemetery\nPIC building\nParking lot\nCanton\, Georgia – 30114\n  \n\nRide Captain:\nTom “Knobby” Walsh\npatriotguardrider.tom@gmail.com \n770-605-6903\n\nSpecial Instructions:\n\n\nFlags & Water:\nFlags Will Be Provided\nLarge Bike Flags will NOT be needed.\nWater WILL NOT be provided\, please bring your own. \nSubmitted By:  Tom Walsh\nPosition:  Assistant State Captain \n\nNote:\nYou do not have to own/ride a motorcycle or be a Veteran to join and membership is Free. The only requirement is RESPECT! To join\, simply go to www.PatriotGuard.org and click on Register. Membership is Free. \nTo subscribe to receive mission notices\, log into the National Site and click on the Mission Tab at the top. Select Upcoming Missions by State. Scroll to the state(s) you would like to receive notices for and click on the green check mark. Detailed instructions are also located in the FAQs on the site by clicking on the Quick Links Tab and selecting FAQs.
URL:https://www.patriotguard.org/mission/state-mission-request-for-31-may-2017-from-georgia-thomas-clayton-russell/
CATEGORIES:Archive
END:VEVENT
END:VCALENDAR