BEGIN:VCALENDAR
VERSION:2.0
PRODID:-//Patriot Guard Riders - ECPv5.3.2.1//NONSGML v1.0//EN
CALSCALE:GREGORIAN
METHOD:PUBLISH
X-WR-CALNAME:Patriot Guard Riders
X-ORIGINAL-URL:https://www.patriotguard.org
X-WR-CALDESC:Events for Patriot Guard Riders
BEGIN:VTIMEZONE
TZID:America/New_York
BEGIN:DAYLIGHT
TZOFFSETFROM:-0500
TZOFFSETTO:-0400
TZNAME:EDT
DTSTART:20170312T070000
END:DAYLIGHT
BEGIN:STANDARD
TZOFFSETFROM:-0400
TZOFFSETTO:-0500
TZNAME:EST
DTSTART:20171105T060000
END:STANDARD
END:VTIMEZONE
BEGIN:VEVENT
DTSTART;TZID=America/New_York:20170131T083000
DTEND;TZID=America/New_York:20170131T103000
DTSTAMP:20210404T132332
CREATED:20170131T133000Z
LAST-MODIFIED:20191201T044444Z
UID:373518-1485851400-1485858600@www.patriotguard.org
SUMMARY:State Mission Request for 31 Jan 2017 from Iowa - David J. Martineau
DESCRIPTION:Submitted by: \n\nMember Name:   Steve Cox\nPosition:   State Captain\nCity\, State:   Ankeny\, Iowa\nUser Name:   52sdc\nEmail:   sdc4098@yahoo.com\n\n\nEmail Subject Line Setup\n===========================\nPrefix to Use – Honor\nSubject Line –   David J. Martineau \, Veteran\, USAF  –  MULTI-CITY\, Iowa  – 31 Jan 2017 \n=========================== \n\nMULTI-CITY! See Mod Instructions for Details \n \n\n\nMod Instructions: \n\n\n\n++++++++ Copy the Information below this line++++++++++ \n\n*** DO NOT REPLY *** \nThis is an automated message sent to you because you have subscribed to this State’s Mission thread. For current details on this mission\, please follow the link below.\nPLACE MISSION LINK HERE\n Honor – David J. Martineau\, Veteran\n    USAF\nMULTI-CITY\, Iowa\n31 Jan 2017\n=============================================\n\n\n\nAbout the Mission:\nThe family of veteran David Martineau\, 62\, has asked the Patriot Guard to stand in honor of his service to our great nation. He served in the US Air Force. \nPrimary Staging Details:  31 Jan 2017\n \n\nPrimary Staging Time:  8:30 A.M.\nHope Lutheran Church\n3857 E 42nd St\nDes Moines\, Iowa – 50317 \n\n\nRide Captain: \n\nBob Lohrman\nrclohrmanjr@gmail.com\n515-491-0817\n\n\nSpecial Instructions: \n\n10:00 AM Service\n\n\nFlags: \n\nFlags Will Be Provided\n\n\nLarge Bike Flags will NOT be needed.\n\n\nWater WILL NOT be provided\, please bring your own.\n\n===========================\n\nStaging #2 Details:  31 Jan\, 2017\n \n\nStaging #2 Time:  1:30 P.M.\nAmerican Legion Post\n910 Main St\nVan Meter\, Iowa – 50261 \n\n\nRide Captain: \n\nBob Lohrman\nrclohrmanjr@gmail.com\n515-491-0817\n\n\nSpecial Instructions: \n\n2:00 PM\nIowa Veterans Cemetery\n\n\nFlags: \n\nFlags Will Be Provided\n\n\nLarge Bike Flags will NOT be needed\n\n\nWater WILL NOT be provided\, please bring your own.\n\nSubmitted By:   Steve Cox\nPosition:   State Captain \n===========================\nNote:\nYou do not have to own/ride a motorcycle or be a Veteran to join and membership is Free. The only requirement is RESPECT! To join\, simply go to www.PatriotGuard.org and click on Register. Membership is Free. \nTo subscribe to receive mission notices\, log into the National Site and click on the Mission Tab at the top. Select Upcoming Missions by State. Scroll to the state(s) you would like to receive notices for and click on the green check mark. Detailed instructions are also located in the FAQs on the site by clicking on the Quick Links Tab and selecting FAQs.
URL:https://www.patriotguard.org/mission/state-mission-request-for-31-jan-2017-from-iowa-david-j-martineau/
LOCATION:William Oliver McNeely
CATEGORIES:Archive
END:VEVENT
END:VCALENDAR