BEGIN:VCALENDAR
VERSION:2.0
PRODID:-//Patriot Guard Riders - ECPv5.3.2.1//NONSGML v1.0//EN
CALSCALE:GREGORIAN
METHOD:PUBLISH
X-WR-CALNAME:Patriot Guard Riders
X-ORIGINAL-URL:https://www.patriotguard.org
X-WR-CALDESC:Events for Patriot Guard Riders
BEGIN:VTIMEZONE
TZID:America/New_York
BEGIN:DAYLIGHT
TZOFFSETFROM:-0500
TZOFFSETTO:-0400
TZNAME:EDT
DTSTART:20170312T070000
END:DAYLIGHT
BEGIN:STANDARD
TZOFFSETFROM:-0400
TZOFFSETTO:-0500
TZNAME:EST
DTSTART:20171105T060000
END:STANDARD
END:VTIMEZONE
BEGIN:VEVENT
DTSTART;TZID=America/New_York:20170131T084500
DTEND;TZID=America/New_York:20170131T104500
DTSTAMP:20210405T221720
CREATED:20170131T134500Z
LAST-MODIFIED:20191201T044425Z
UID:373382-1485852300-1485859500@www.patriotguard.org
SUMMARY:State Mission Request for 31 Jan 2017 from Florida - Robert B. Corder\, 69
DESCRIPTION:Submitted by: \n\nMember Name:   John Lowery\nPosition:   Assistant State Captain\nCity\, State:   Gulf Breeze\, Florida\nUser Name:   John Lowery\nEmail:   usanwflpgr@john-lowery.com\n\n\nEmail Subject Line Setup\n===========================\nPrefix to Use – Honor\nSubject Line –   Robert B. Corder\, 69 \, Veteran\, USA  –  Pensacola\, Florida  – 31 Jan 2017 \n=========================== \n\n\nSTATEWIDE REQUIRED! \n\n\nMod Instructions: \n\nnone\n\n\n++++++++ Copy the Information below this line++++++++++ \n\n*** DO NOT REPLY *** \nThis is an automated message sent to you because you have subscribed to this State’s Mission thread. For current details on this mission\, please follow the link below.\nPLACE MISSION LINK HERE\n Honor – Robert B. Corder\, 69\, Veteran\n    USA\nPensacola\, Florida\n31 Jan 2017\n=============================================\n\n\n\nAbout the Mission:\nThe Patriot Guard has been invited by the Family of SP5 (E-5) Robert Corder\, United States Army\, to escort him to\, and stand in his honor at Barrancas National Cemetery.  SP5 Corder entered the United States Army on 30 July 1970\, and served until 5 June 1973.  Harper-Morris Memorial Chapel\, 2276 Airport Blvd\, Pensacola\, FL. will be in charge of all arrangements. \nPrimary Staging Details:  31 Jan 2017\n \n\nPrimary Staging Time:  0945 A.M.\nMcDonalds\, 1500 Airport Blvd.\nPensacola\, Florida – \n\n\nRide Captain: \n\nBryan Stiers\n757-288-5131\nBEStiers@msn.com\n\n\nSpecial Instructions: \n\n1030 – Briefing for all riders\n1045 – KSU to Harper-Morris Memorial Chapel\, Pensacola\, FL.\n1130 – Roll Time to Barrancas National Cemetery w/LEO escort\n1200 – Honors at Barrancas National Cemetery. Site “A” \nCAUTION: The Naval Air Station requires that you ride with long sleeve shirts\, long trousers\, long fingered gloves\, DOT Approved helmets\, leather foot wear covering the ankles and appropriate eye protection. This attire will be maintained at all times while riding aboard the base.\n \n\nFlags: \n\nFlags Will Be Provided\n\n\nIf you have large bike flags\, please bring them.\n\n\nWater will be provided.\n\n\nSubmitted By:   John Lowery\nPosition:   Assistant State Captain \n===========================\nNote:\nYou do not have to own/ride a motorcycle or be a Veteran to join and membership is Free. The only requirement is RESPECT! To join\, simply go to www.PatriotGuard.org and click on Register. Membership is Free. \nTo subscribe to receive mission notices\, log into the National Site and click on the Mission Tab at the top. Select Upcoming Missions by State. Scroll to the state(s) you would like to receive notices for and click on the green check mark. Detailed instructions are also located in the FAQs on the site by clicking on the Quick Links Tab and selecting FAQs.
URL:https://www.patriotguard.org/mission/state-mission-request-for-31-jan-2017-from-florida-robert-b-corder-69/
LOCATION:Hestia Warren
CATEGORIES:Archive
END:VEVENT
END:VCALENDAR