BEGIN:VCALENDAR
VERSION:2.0
PRODID:-//Patriot Guard Riders - ECPv5.3.2.1//NONSGML v1.0//EN
CALSCALE:GREGORIAN
METHOD:PUBLISH
X-WR-CALNAME:Patriot Guard Riders
X-ORIGINAL-URL:https://www.patriotguard.org
X-WR-CALDESC:Events for Patriot Guard Riders
BEGIN:VTIMEZONE
TZID:America/New_York
BEGIN:DAYLIGHT
TZOFFSETFROM:-0500
TZOFFSETTO:-0400
TZNAME:EDT
DTSTART:20170312T070000
END:DAYLIGHT
BEGIN:STANDARD
TZOFFSETFROM:-0400
TZOFFSETTO:-0500
TZNAME:EST
DTSTART:20171105T060000
END:STANDARD
END:VTIMEZONE
BEGIN:VEVENT
DTSTART;TZID=America/New_York:20170831T081500
DTEND;TZID=America/New_York:20170831T101500
DTSTAMP:20210405T181529
CREATED:20170831T121500Z
LAST-MODIFIED:20191201T041800Z
UID:360166-1504167300-1504174500@www.patriotguard.org
SUMMARY:State Mission Request for 31 Aug 2017 from Nevada - Regular Thursday morning interments
DESCRIPTION:Submitted by: \n\nMember Name: Rick Foulon\nPosition: Assistant State Captain\nCity\, State: Las Vegas\, Nevada\nUser Name: marinerick\nEmail: rickfoulon@yahoo.com\n\nEmail Subject Line Setup\n[HR][/HR]Prefix to Use – Honor\nSubject Line –  Regular Thursday morning interments \, Veteran\, USA\, USMC\, USCG  –  Boulder City\, Nevada  – 31 Aug 2017\n[HR][/HR] \n\n\nMod Instructions: \n\n\n++++++++ Copy the Information above this line++++++++++ \n\nHonor Mission\n*** DO NOT REPLY ***  \nRegular Thursday morning interments\, Veteran\nUSA\, USMC\, USCG\nBoulder City\, Nevada – 31 Aug 2017\n\n\n[HR][/HR]\nABOUT THE MISSION: \n\nThe following deceased veterans will be interred at the Veteran’s Memorial Cemetery in Boulder City\, NV: \nJaquin Lopez              United States Marine Corps\nFrank Komnenns        United States Coast Guard\nMichael Nichols          United States Army\n\n\nPRIMARY STAGING DETAILS:  31 Aug 2017\nPrimary Staging Time: 8:15 A.M. \n\nVeterans Memorial Cemetery\n1900 Veterans Memorial Drive\nBoulder City\, Nevada – 89005\n\n\nRide Captain: \n\nRick Foulon\nsnvpgr@gmail.com\n702-427-7185\n\n\nSpecial Instructions: \n\n\n\nFlags & Water: \n\nFlags Will Not Be Needed\nLarge Bike Flags will NOT be needed.\nWater WILL NOT be provided\, please bring your own.\n\nSubmitted By: Rick Foulon\nPosition: Assistant State Captain\n[HR][/HR]Note:\nYou do not have to own/ride a motorcycle or be a Veteran to join and membership is Free. The only requirement is RESPECT! To join\, simply go to www.PatriotGuard.org and click on Register. Membership is Free. \nTo subscribe to receive mission notices\, log into the National Site and click on the Mission Tab at the top. Select the Subscribe to Missions option.
URL:https://www.patriotguard.org/mission/state-mission-request-for-31-aug-2017-from-nevada-regular-thursday-morning-interments/
CATEGORIES:Archive
END:VEVENT
END:VCALENDAR