BEGIN:VCALENDAR
VERSION:2.0
PRODID:-//Patriot Guard Riders - ECPv5.3.2.1//NONSGML v1.0//EN
CALSCALE:GREGORIAN
METHOD:PUBLISH
X-WR-CALNAME:Patriot Guard Riders
X-ORIGINAL-URL:https://www.patriotguard.org
X-WR-CALDESC:Events for Patriot Guard Riders
BEGIN:VTIMEZONE
TZID:America/New_York
BEGIN:DAYLIGHT
TZOFFSETFROM:-0500
TZOFFSETTO:-0400
TZNAME:EDT
DTSTART:20170312T070000
END:DAYLIGHT
BEGIN:STANDARD
TZOFFSETFROM:-0400
TZOFFSETTO:-0500
TZNAME:EST
DTSTART:20171105T060000
END:STANDARD
END:VTIMEZONE
BEGIN:VEVENT
DTSTART;TZID=America/New_York:20170630T110000
DTEND;TZID=America/New_York:20170630T130000
DTSTAMP:20210404T150835
CREATED:20170630T150000Z
LAST-MODIFIED:20191201T042521Z
UID:363902-1498820400-1498827600@www.patriotguard.org
SUMMARY:State Mission Request for 30 Jun 2017 from South Carolina - John E. Steele
DESCRIPTION:Submitted by:\nMember Name:   L.Z. Harrison\, Jr.\nPosition:   State Captain\nCity\, State:   Hopkins\, South Carolina\nUser Name:   Lzharrison\nEmail:   Lzharrison123@gmail.com\n \nEmail Subject Line Setup\n\nPrefix to Use – Honor\nSubject Line – SHORT NOTICE –  John E. Steele \, Retired\, USN  –  LAKE CITY\, South Carolina  – 30 Jun 2017\n\n\nSHORT NOTICE!\n\n\n\n\n\n \n\nMod Instructions:\n\n\n++++++++ Copy the Information above this line++++++++++\n\n \nHonor Mission\n\n*** DO NOT REPLY *** \nThis is an automated message sent to you because you have subscribed to this State’s Mission thread. For current details on this mission\, please follow the link below. \nJohn E. Steele\, Retired \nUSN \nLAKE CITY\, South Carolina – 30 Jun 2017\n \n\n\nABOUT THE MISSION:\nTHIS IS A ONE PART MISSION THAT STARTS IN LAKE CITY AND ENDS IN FLORENCE AT THE NATIONAL CEMETERY. PLEASE READ THE ENTIRE MISSION FOR DETAILS. \nThe family of John E. Steele has requested the PGR stand and honor Mr. Steele at his final formation and it will be our honor. \nMr. Steele retired from the U.S. Navy after 25 years of faithful and honorable service. \nMore information is available here:  http://www.scnow.com/obituaries/article_7d3f0796-49eb-5df3-b644-c52df11d63b0.html\n\nPRIMARY STAGING DETAILS:  30 Jun 2017\n\nPrimary Staging Time:  11:00 A.M.\nNew Zion Baptist Church of Lake City\n1230 McAllister Mill Road (Scranton)\nLAKE CITY\, South Carolina – 29560\nMAP:  https://goo.gl/maps/qZ5kq846hsR2  \n\nRide Captain:\nTommy Jones\n(843) 206-6158\nhtommyjones@aol.com\n\nSpecial Instructions:\nBriefing: 11:05 A.M. \nEscort to Family Home: 11:15 A.M. \nAfter the briefing we will depart for the family home to conduct an escort back to the services.  Services at the church begin at 1:00 P.M..  After the services at the church\, we will conduct a 20 mile escort to the FLORENCE NATIONAL CEMETERY for a 2:00 P.M. service.  If you are going directly to the cemetery\, please arrive by 1:30 P.M. and be respectful of any services going on before this service. \nCemetery: Florence National Cemetery\, 803 E National Cemetery Rd\, Florence\, SC 29506 \nMAP:  https://goo.gl/maps/pJ6cE7pUTDK2\n\nFlags & Water:\nFlags Will Be Provided\nIf you have large bike flags\, please bring them.\nWater will be provided. \nSubmitted By:  L.Z. Harrison\, Jr.\nPosition:  State Captain \n\nNote:\nYou do not have to own/ride a motorcycle or be a Veteran to join and membership is Free. The only requirement is RESPECT! To join\, simply go to www.PatriotGuard.org and click on Register. Membership is Free. \nTo subscribe to receive mission notices\, log into the National Site and click on the Mission Tab at the top. Select Upcoming Missions by State. Scroll to the state(s) you would like to receive notices for and click on the green check mark. Detailed instructions are also located in the FAQs on the site by clicking on the Quick Links Tab and selecting FAQs.
URL:https://www.patriotguard.org/mission/state-mission-request-for-30-jun-2017-from-south-carolina-john-e-steele/
CATEGORIES:Archive
END:VEVENT
END:VCALENDAR