BEGIN:VCALENDAR
VERSION:2.0
PRODID:-//Patriot Guard Riders - ECPv5.3.2.1//NONSGML v1.0//EN
CALSCALE:GREGORIAN
METHOD:PUBLISH
X-WR-CALNAME:Patriot Guard Riders
X-ORIGINAL-URL:https://www.patriotguard.org
X-WR-CALDESC:Events for Patriot Guard Riders
BEGIN:VTIMEZONE
TZID:America/New_York
BEGIN:DAYLIGHT
TZOFFSETFROM:-0500
TZOFFSETTO:-0400
TZNAME:EDT
DTSTART:20170312T070000
END:DAYLIGHT
BEGIN:STANDARD
TZOFFSETFROM:-0400
TZOFFSETTO:-0500
TZNAME:EST
DTSTART:20171105T060000
END:STANDARD
END:VTIMEZONE
BEGIN:VEVENT
DTSTART;TZID=America/New_York:20170130T083000
DTEND;TZID=America/New_York:20170130T103000
DTSTAMP:20210404T194708
CREATED:20170130T133000Z
LAST-MODIFIED:20191201T044423Z
UID:373369-1485765000-1485772200@www.patriotguard.org
SUMMARY:State Mission Request for 30 Jan 2017 from West Virginia - Paul Anthony Hall
DESCRIPTION:Submitted by:\nMember Name:   Buddy Palla\nPosition:   Assistant State Captain\nCity\, State:   Charleston\, West Virginia\nUser Name:   deaconbiker\nEmail:   deaconbiker@yahoo.com\n \nEmail Subject Line Setup\n\nPrefix to Use – Honor\nSubject Line – SHORT NOTICE –  Paul Anthony Hall \, USAR – WoT\,  Malden\, West Virginia  – 30 Jan 2017\n\n\nSHORT NOTICE!\nSTATEWIDE REQUIRED!\n\n\n\n\n \n\nMod Instructions:\n\n\n++++++++ Copy the Information above this line++++++++++\n\n \nHonor Mission\n\n*** DO NOT REPLY *** \nThis is an automated message sent to you because you have subscribed to this State’s Mission thread. For current details on this mission\, please follow the link below. \nPaul Anthony Hall \nUSAR  – WoT\nMalden\, West Virginia – 30 Jan 2017\n \n\n\nABOUT THE MISSION:\nThe family of Paul A. Hall has invited the Patriot Guard Riders to stand in honor of their loved one at his final services\, Monday 30 Jan 2017. Paul served his country as a Specialist\, US Army Reserves\, 305th MP Company\, and did a tour in Afghanistan as part of Operation Enduring Freedom. \nThis mission will consist of a flag line at the funeral home\, escort to the Donel Kinnard Memorial State Veteran’s Cemetery\, and a flag line at the cemetery. Please monitor weather conditions as there is a potential for snow on Monday; use a safe means of conveyance and dress appropriately for the weather.\n\nPRIMARY STAGING DETAILS:  30 Jan 2017\n\nPrimary Staging Time:  0930 A.M.\nStevens and Grass Funeral Home\, 4203 Salines Dr\nMalden\, West Virginia – 25306\nhttp://tinyurl.com/gm88tx4  \n\nRide Captain:\nDave Shaffer\, 304-206-7443\n\nSpecial Instructions:\nMission brief at 0950\, flag line in place by 1000.\n\nFlags & Water:\nFlags Will NOT Be Provided\, Please Bring Your Own.\nLarge Bike Flags will NOT be needed.\nWater WILL NOT be provided\, please bring your own.
URL:https://www.patriotguard.org/mission/state-mission-request-for-30-jan-2017-from-west-virginia-paul-anthony-hall/
CATEGORIES:Archive
END:VEVENT
END:VCALENDAR