BEGIN:VCALENDAR
VERSION:2.0
PRODID:-//Patriot Guard Riders - ECPv5.3.2.1//NONSGML v1.0//EN
CALSCALE:GREGORIAN
METHOD:PUBLISH
X-WR-CALNAME:Patriot Guard Riders
X-ORIGINAL-URL:https://www.patriotguard.org
X-WR-CALDESC:Events for Patriot Guard Riders
BEGIN:VTIMEZONE
TZID:America/New_York
BEGIN:DAYLIGHT
TZOFFSETFROM:-0500
TZOFFSETTO:-0400
TZNAME:EDT
DTSTART:20170312T070000
END:DAYLIGHT
BEGIN:STANDARD
TZOFFSETFROM:-0400
TZOFFSETTO:-0500
TZNAME:EST
DTSTART:20171105T060000
END:STANDARD
END:VTIMEZONE
BEGIN:VEVENT
DTSTART;TZID=America/New_York:20170929T130000
DTEND;TZID=America/New_York:20170929T150000
DTSTAMP:20210405T180311
CREATED:20170929T170000Z
LAST-MODIFIED:20191201T041707Z
UID:359738-1506690000-1506697200@www.patriotguard.org
SUMMARY:State Mission Request for 29 Sep 2017 from Oklahoma - Veterans Welcome Home Float
DESCRIPTION:Submitted by: \n\nMember Name: Edmond Moseley\nPosition: Ride Captain\nCity\, State: Owasso\, Oklahoma\nUser Name: Ron (MOE) Moseley\nEmail: Sooner46@att.net\n\nEmail Subject Line Setup\n[HR][/HR]Prefix to Use – Welcome Home\nSubject Line –  Veterans Welcome Home Float \, Active Duty\, Retired\, KIA\, POW/MIA\, Veteran\, USA\, USN\, USMC\, USCG\, USAF \, ANG\, ARNG\, USAR\, USAFR\, USCGR\, USMCR\, USNR – Vietnam\,  Claremore\, Oklahoma  – 29 Sep 2017\n[HR][/HR] \n\n\nMod Instructions: \n\n\n++++++++ Copy the Information above this line++++++++++ \n\nWelcome Home Mission\n*** DO NOT REPLY ***  \nVeterans Welcome Home Float\, Active Duty\, Retired\, KIA\, POW/MIA\, Veteran\nUSA\, USN\, USMC\, USCG\, USAF ANG\, ARNG\, USAR\, USAFR\, USCGR\, USMCR\, USNR  – Vietnam\nClaremore\, Oklahoma – 29 Sep 2017\n\n\n[HR][/HR]\nABOUT THE MISSION: \n\nWelcome Home* Veterans – Homecoming\n*********** 29 September 2017\n*********** Claremore\, Oklahoma\n*\n*Details:*\n*** Claremore High School Homecoming parade.* The parade starts at Claremore Expo with line up at 2:15 p.m. and parade start at 3:00 p.m.* Patriot Guard will lead the parade followed by ROTC then the 50th class reunion will honor Veterans with Welcome Home Float and memorial.* Class of ’67 has 26% of the class as veterans.* This group never got a welcome home (The 60’s).* Float will carry approximately 80% of this surviving group.* This group includes all armed services members. Our class contains many DAV members to include the Commander of the local DAV.* At another ceremony all deceased members will be recognized individually as will survivors.* We would really appreciate your support.* We have been in contact with parade officials and Chief Jasper of the High School ROTC program to ensure your place in the parade to minimize start and stop issues with the riders cycles.* I do have the release forms etc from the high school that I am happy to forward to whoever the appropriate con\ntact may be.\n\n\nPRIMARY STAGING DETAILS:  29 Sep 2017\nPrimary Staging Time: 1:00 P.M. \n\nClaremore Expo\n400 Veterans Pkwy\nClaremore OK\nClaremore\, Oklahoma –\n\n\nRide Captain: \n\nRon (MOE) Moseley\nsooner46@att.net\n918-269-6767\n\n\nSpecial Instructions: \n\n\n\nFlags & Water: \n\nFlags Will Not Be Needed\nIf you have large bike flags\, please bring them.\nWater WILL NOT be provided\, please bring your own.\n\nSubmitted By: Edmond Moseley\nPosition: Ride Captain\n[HR][/HR]Note:\nYou do not have to own/ride a motorcycle or be a Veteran to join and membership is Free. The only requirement is RESPECT! To join\, simply go to www.PatriotGuard.org and click on Register. Membership is Free. \nTo subscribe to receive mission notices\, log into the National Site and click on the Mission Tab at the top. Select the Subscribe to Missions option.
URL:https://www.patriotguard.org/mission/state-mission-request-for-29-sep-2017-from-oklahoma-veterans-welcome-home-float/
CATEGORIES:Archive
END:VEVENT
END:VCALENDAR