BEGIN:VCALENDAR
VERSION:2.0
PRODID:-//Patriot Guard Riders - ECPv5.3.2.1//NONSGML v1.0//EN
CALSCALE:GREGORIAN
METHOD:PUBLISH
X-WR-CALNAME:Patriot Guard Riders
X-ORIGINAL-URL:https://www.patriotguard.org
X-WR-CALDESC:Events for Patriot Guard Riders
BEGIN:VTIMEZONE
TZID:America/New_York
BEGIN:DAYLIGHT
TZOFFSETFROM:-0500
TZOFFSETTO:-0400
TZNAME:EDT
DTSTART:20170312T070000
END:DAYLIGHT
BEGIN:STANDARD
TZOFFSETFROM:-0400
TZOFFSETTO:-0500
TZNAME:EST
DTSTART:20171105T060000
END:STANDARD
END:VTIMEZONE
BEGIN:VEVENT
DTSTART;TZID=America/New_York:20171029T103000
DTEND;TZID=America/New_York:20171029T123000
DTSTAMP:20210406T024203
CREATED:20171029T143000Z
LAST-MODIFIED:20191201T041042Z
UID:356408-1509273000-1509280200@www.patriotguard.org
SUMMARY:State Mission Request for 29 Oct 2017 from New York - Walk To The Heroes Event
DESCRIPTION:Submitted by: \n\nMember Name: Ray Sestak\nPosition: Ride Captain\nCity\, State: Glenmont\, New York\nUser Name: PGRNYMods\nEmail: pgrnymod@gmail.com\n\nEmail Subject Line Setup\n[HR][/HR]Prefix to Use – HOTH\nSubject Line –  Walk To The Heroes Event  –  Schuylerville\, New York  – 29 Oct 2017\n[HR][/HR]Mod Instructions:++++++++ Copy the Information above this line++++++++++ \n\nHOTH Mission\n*** DO NOT REPLY ***  \nWalk To The Heroes Event\n\nSchuylerville\, New York – 29 Oct 2017\n\n\n[HR][/HR]\nABOUT THE MISSION: \n\nThe organizer (Justine Crowley Duncan) for the Elks\, Walk To The Heroes event has once again requested the participation of the Patriot Guard Riders. \nThis walk is a fundraiser for the Elks to raise money for Military Mom’s in Action. This is our 4th year for this event. Great way to start off your Sunday.\n \n\nPRIMARY STAGING DETAILS:  29 Oct 2017\nPrimary Staging Time: 10:30 A.M. \n\nSaratoga National Cemetery\n200 Duell Road\nSchuylerville\, New York – 12871\n\n\nRide Captain: \n\nGene Jones\nrem2arms@aol.com\n\n\nSpecial Instructions: \n\nStage at the entrance to the cemetery at 10:30 with flag line for the arrival of walkers from Saratoga Battlefield. \nAfter everyone has arrived\, proceed to the main flag pole for a short ceremony.\n \n\nFlags & Water: \n\nFlags Will NOT Be Provided\, Please Bring Your Own.\nLarge Bike Flags will NOT be needed.\nWater WILL NOT be provided\, please bring your own.\n\nSubmitted By: Ray Sestak\nPosition: Ride Captain\n[HR][/HR]Note:\nYou do not have to own/ride a motorcycle or be a Veteran to join and membership is Free. The only requirement is RESPECT! To join\, simply go to www.PatriotGuard.org and click on Register. Membership is Free. \nTo subscribe to receive mission notices\, log into the National Site and click on the Mission Tab at the top. Select the Subscribe to Missions option. \n**********************************\nHOTH\nWalk To The Heroes Event  –  Schuylerville\, New York  – 29 Oct 2017 \n\nWalk To The Heroes Event\nSchuylerville\, New York – 29 Oct 2017 \n\n\n[HR][/HR]\nABOUT THE MISSION: \n\nThe  organizer for the Elks’ Walk To The Heroes  event has once again requested the participation of the Patriot Guard  Riders. \nThis walk is a fundraiser for the Elks to raise money for Military Mom’s  in Action. This is our 4th year for this event. Great way to start off  your Sunday.\n \n\nPRIMARY STAGING DETAILS:  29 Oct 2017\nPrimary Staging Time: 10:30 A.M. \n\nSaratoga National Cemetery\n200 Duell Road\nSchuylerville\, New York – 12871\n\n\nRide Captain: \n\nGene Jones\nrem2arms@aol.com\n\n\nSpecial Instructions: \n\nStage at the entrance to the cemetery at 10:30 with flag line for the arrival of walkers from Saratoga Battlefield. \nAfter everyone has arrived\, proceed to the main flag pole for a short ceremony.\n \n\nFlags & Water: \n\nFlags Will NOT Be Provided\, Please Bring Your Own.\nLarge Bike Flags will NOT be needed.\nWater WILL NOT be provided\, please bring your own.\n\n\nSubmitted By: Ray Sestak\nPosition: Ride Captain\n[HR][/HR]Note:\nYou do not have to own/ride a motorcycle or be a Veteran to join and membership is Free. The only requirement is RESPECT! To join\, simply go to www.PatriotGuard.org and click on Register. Membership is Free. \nTo subscribe to receive mission notices\, log into the National Site and click on the Mission Tab at the top. Select the Subscribe to Missions option.
URL:https://www.patriotguard.org/mission/state-mission-request-for-29-oct-2017-from-new-york-walk-to-the-heroes-event/
LOCATION:Robert D. Holt
CATEGORIES:Archive
END:VEVENT
END:VCALENDAR