BEGIN:VCALENDAR
VERSION:2.0
PRODID:-//Patriot Guard Riders - ECPv5.3.2.1//NONSGML v1.0//EN
CALSCALE:GREGORIAN
METHOD:PUBLISH
X-WR-CALNAME:Patriot Guard Riders
X-ORIGINAL-URL:https://www.patriotguard.org
X-WR-CALDESC:Events for Patriot Guard Riders
BEGIN:VTIMEZONE
TZID:America/New_York
BEGIN:DAYLIGHT
TZOFFSETFROM:-0500
TZOFFSETTO:-0400
TZNAME:EDT
DTSTART:20170312T070000
END:DAYLIGHT
BEGIN:STANDARD
TZOFFSETFROM:-0400
TZOFFSETTO:-0500
TZNAME:EST
DTSTART:20171105T060000
END:STANDARD
END:VTIMEZONE
BEGIN:VEVENT
DTSTART;TZID=America/New_York:20170529T074500
DTEND;TZID=America/New_York:20170529T094500
DTSTAMP:20210406T004554
CREATED:20170529T114500Z
LAST-MODIFIED:20191201T042910Z
UID:365824-1496043900-1496051100@www.patriotguard.org
SUMMARY:State Mission Request for 29 May 2017 from Washington - Memorial Day Services
DESCRIPTION:Submitted by:\nMember Name:   TK Johnson\nPosition:   Ride Captain\nCity\, State:   Oak Harbor\, Washington\nUser Name:   Chutzpah\nEmail:   chutzpah4pgr@gmail.com\n \nEmail Subject Line Setup\n\nPrefix to Use – Memorial\nSubject Line –   Memorial Day Services  –  MULTI-CITY\, Washington  – 29 May 2017\n\n\n\n\nMULTI-CITY! See Mod Instructions for Details\n\n\n\n \n\nMod Instructions:\nI submitted this mission on 5/24\, but Sarah said it was nowhere to be found in the que. There were time & locale changes since then\, so this will either be an update if you can find me in the que\, or it is my original request if I’m not.\nThis is a TWO PHASE Mission with ONE STAGING.\n\n++++++++ Copy the Information above this line++++++++++\n\n \nMemorial Mission\n\n*** DO NOT REPLY *** \nThis is an automated message sent to you because you have subscribed to this State’s Mission thread. For current details on this mission\, please follow the link below. \nMemorial Day Services \n\nMULTI-CITY\, Washington – 29 May 2017\n \n\n\nABOUT THE MISSION:\nLadies & Gentlemen of the PGR\,\nWe have been honored once again to show our respect and appreciation for our Country’s Heroes by participating in two Memorial Day Ceremonies.\n\nPRIMARY STAGING DETAILS:  29 May 2017\n\nPrimary Staging Time:  0845 A.M.\nCoupeville Park & Ride\n201 S. Main St.\nCoupeville\, Washington – 98249\n  \n\nRide Captain:\nTK “Chutzpah” Johnson\ntk@pgrofwa.org\n360-929-0385\n\nSpecial Instructions:\nPHASE ONE – SCHEDULE:\n0845 hrs – RC arrives\n0900 hrs – Riders arrive & sign in\n0920 hrs – Briefing\n0930 hrs – KSU for memorial location\n0945 hrs – Flag Line in place to receive Guests & Dignitaries\n1000 hrs – Ceremony begins\n1030 hrs – Flag Line fade away / debrief – KSU to phase two \n\nPHASE TWO – SCHEDULE:\n1100 hrs – RC & Riders arrive\n1115 hrs – Flag Line in place to receive Guests & Dignitaries\n1130 hrs – Ceremony begins\n1200 hrs – Flag Line fade away / debrief \nThe timing between ceremonies is tight\, but very doable.\nWeather forecast is Sunny & 70. Please plan accordingly.\n\nFlags & Water:\nFlags Will Be Provided\nLarge Bike Flags will NOT be needed.\nWater will be provided. \nSubmitted By:  TK Johnson\nPosition:  Ride Captain \n\nNote:\nYou do not have to own/ride a motorcycle or be a Veteran to join and membership is Free. The only requirement is RESPECT! To join\, simply go to www.PatriotGuard.org and click on Register. Membership is Free. \nTo subscribe to receive mission notices\, log into the National Site and click on the Mission Tab at the top. Select Upcoming Missions by State. Scroll to the state(s) you would like to receive notices for and click on the green check mark. Detailed instructions are also located in the FAQs on the site by clicking on the Quick Links Tab and selecting FAQs.
URL:https://www.patriotguard.org/mission/state-mission-request-for-29-may-2017-from-washington-memorial-day-services/
CATEGORIES:Archive
END:VEVENT
END:VCALENDAR