BEGIN:VCALENDAR
VERSION:2.0
PRODID:-//Patriot Guard Riders - ECPv5.3.2.1//NONSGML v1.0//EN
CALSCALE:GREGORIAN
METHOD:PUBLISH
X-WR-CALNAME:Patriot Guard Riders
X-ORIGINAL-URL:https://www.patriotguard.org
X-WR-CALDESC:Events for Patriot Guard Riders
BEGIN:VTIMEZONE
TZID:America/New_York
BEGIN:DAYLIGHT
TZOFFSETFROM:-0500
TZOFFSETTO:-0400
TZNAME:EDT
DTSTART:20170312T070000
END:DAYLIGHT
BEGIN:STANDARD
TZOFFSETFROM:-0400
TZOFFSETTO:-0500
TZNAME:EST
DTSTART:20171105T060000
END:STANDARD
END:VTIMEZONE
BEGIN:VEVENT
DTSTART;TZID=America/New_York:20170529T121500
DTEND;TZID=America/New_York:20170529T141500
DTSTAMP:20210403T060845
CREATED:20170529T161500Z
LAST-MODIFIED:20191201T042542Z
UID:364052-1496060100-1496067300@www.patriotguard.org
SUMMARY:State Mission Request for 29 May 2017 from Georgia - Frederick D. Porter
DESCRIPTION:Submitted by:\nMember Name:   Byron L Hall\nPosition:   Ride Captain\nCity\, State:   Woodstock\, Georgia\nUser Name:   bplayer46\nEmail:   bplayer46@gmail.com\n \nEmail Subject Line Setup\n\nPrefix to Use – Honor\nSubject Line –   Frederick D. Porter \, Retired\, USAF  –  Canton\, Georgia  – 29 May 2017\n\n\n\n\n\n\n\n\n \n\nMod Instructions:\nPlease edit as necessary.\n\n++++++++ Copy the Information above this line++++++++++\n\n \nHonor Mission\n\n*** DO NOT REPLY *** \nThis is an automated message sent to you because you have subscribed to this State’s Mission thread. For current details on this mission\, please follow the link below. \nFrederick D. Porter\, Retired \nUSAF \nCanton\, Georgia – 29 May 2017\n \n\n\nABOUT THE MISSION:\nFrederick Dale Porter served his country in the U.S. Air Force.  Earning among other decorations\, the Air Force Commendation Medal\, two Air Force Achievement Medals\, and five Good Conduct Medals\, he retired as a Master Sergeant after twenty years of service.  His family has requested the Patriot Guard Riders stand and honor him during his inurnment service at Georgia National Cemetery\, Canton\, Georgia.  I informed the family it will be an honor and privilege to do so.\n\nPRIMARY STAGING DETAILS:  29 May 2017\n\nPrimary Staging Time:  12:15 P.M.\nGeorgia National Cemetery\n1080 Scott Hudgens Drive\nCanton\, Georgia – 30114\n  \n\nRide Captain:\nByron “Gimpy” Hall\nbplayer46@gmail.com\n(770) 883-8175\n\nSpecial Instructions:\nThis will be a flag line only.  Stage at the PIC building.  After a short briefing and at the appropriate time we will move to the assigned shelter.  The service is scheduled for 1 pm.\n\nFlags & Water:\nFlags Will Be Provided\nLarge Bike Flags will NOT be needed.\nWater will be provided. \nSubmitted By:  Byron L Hall\nPosition:  Ride Captain \n\nNote:\nYou do not have to own/ride a motorcycle or be a Veteran to join and membership is Free. The only requirement is RESPECT! To join\, simply go to www.PatriotGuard.org and click on Register. Membership is Free. \nTo subscribe to receive mission notices\, log into the National Site and click on the Mission Tab at the top. Select Upcoming Missions by State. Scroll to the state(s) you would like to receive notices for and click on the green check mark. Detailed instructions are also located in the FAQs on the site by clicking on the Quick Links Tab and selecting FAQs.
URL:https://www.patriotguard.org/mission/state-mission-request-for-29-may-2017-from-georgia-frederick-d-porter/
LOCATION:Holiday Wreath Clean-Up
CATEGORIES:Archive
END:VEVENT
END:VCALENDAR