BEGIN:VCALENDAR
VERSION:2.0
PRODID:-//Patriot Guard Riders - ECPv5.3.2.1//NONSGML v1.0//EN
CALSCALE:GREGORIAN
METHOD:PUBLISH
X-WR-CALNAME:Patriot Guard Riders
X-ORIGINAL-URL:https://www.patriotguard.org
X-WR-CALDESC:Events for Patriot Guard Riders
BEGIN:VTIMEZONE
TZID:America/New_York
BEGIN:DAYLIGHT
TZOFFSETFROM:-0500
TZOFFSETTO:-0400
TZNAME:EDT
DTSTART:20170312T070000
END:DAYLIGHT
BEGIN:STANDARD
TZOFFSETFROM:-0400
TZOFFSETTO:-0500
TZNAME:EST
DTSTART:20171105T060000
END:STANDARD
END:VTIMEZONE
BEGIN:VEVENT
DTSTART;TZID=America/New_York:20170529T080000
DTEND;TZID=America/New_York:20170529T100000
DTSTAMP:20210404T155036
CREATED:20170529T120000Z
LAST-MODIFIED:20191201T043118Z
UID:366865-1496044800-1496052000@www.patriotguard.org
SUMMARY:State Mission Request for 29 May 2017 from Florida - Memorial Day Ceremony
DESCRIPTION:Submitted by:\nMember Name:   Nicholas Young\nPosition:   Assistant State Captain\nCity\, State:   Crestview\, Florida\nUser Name:   SurfaceWarrior\nEmail:   1surfacewarrior1@gmail.com\n \nEmail Subject Line Setup\n\nPrefix to Use – HOTH\nSubject Line –   Memorial Day Ceremony  –  Jacksonville\, Florida  – 29 May 2017\n\n\n\n\n\n\n\n\n \n\nMod Instructions:\n\n\n++++++++ Copy the Information above this line++++++++++\n\n \nHOTH Mission\n\n*** DO NOT REPLY *** \nThis is an automated message sent to you because you have subscribed to this State’s Mission thread. For current details on this mission\, please follow the link below. \nMemorial Day Ceremony \n\nJacksonville\, Florida – 29 May 2017\n \n\n\nABOUT THE MISSION:\nJacksonville’s Fallen Heroes will be honored at this annual event hosted by Mayor Lenny Curry. \nPlease come out and stand a flag line for our heroes.\n\nPRIMARY STAGING DETAILS:  29 May 2017\n\nPrimary Staging Time:  8:00 A.M.\nVeteran’s Memorial Wall\nSouth Parking Lot (near)\n1145 E. Adams Street\nJacksonville\, Florida – 32202\nhttps://goo.gl/maps/7vcz4kpv6E52  \n\nRide Captain:\nMichael Smith\nmwsbiker@comcast.net\n904-424-3622\n\nSpecial Instructions:\nStage 0800 (8:00 AM)\nBrief   0815 (8:15 AM) \nStand Flag Line as directed by Ride Captain.\n\nFlags & Water:\nFlags Will NOT Be Provided\, Please Bring Your Own.\nLarge Bike Flags will NOT be needed.\nWater WILL NOT be provided\, please bring your own. \nSubmitted By:  Nicholas Young\nPosition:  Assistant State Captain \n\nNote:\nYou do not have to own/ride a motorcycle or be a Veteran to join and membership is Free. The only requirement is RESPECT! To join\, simply go to www.PatriotGuard.org and click on Register. Membership is Free. \nTo subscribe to receive mission notices\, log into the National Site and click on the Mission Tab at the top. Select Upcoming Missions by State. Scroll to the state(s) you would like to receive notices for and click on the green check mark. Detailed instructions are also located in the FAQs on the site by clicking on the Quick Links Tab and selecting FAQs.
URL:https://www.patriotguard.org/mission/state-mission-request-for-29-may-2017-from-florida-memorial-day-ceremony-2/
CATEGORIES:Archive
END:VEVENT
END:VCALENDAR