BEGIN:VCALENDAR
VERSION:2.0
PRODID:-//Patriot Guard Riders - ECPv5.3.2.1//NONSGML v1.0//EN
CALSCALE:GREGORIAN
METHOD:PUBLISH
X-WR-CALNAME:Patriot Guard Riders
X-ORIGINAL-URL:https://www.patriotguard.org
X-WR-CALDESC:Events for Patriot Guard Riders
BEGIN:VTIMEZONE
TZID:America/New_York
BEGIN:DAYLIGHT
TZOFFSETFROM:-0500
TZOFFSETTO:-0400
TZNAME:EDT
DTSTART:20170312T070000
END:DAYLIGHT
BEGIN:STANDARD
TZOFFSETFROM:-0400
TZOFFSETTO:-0500
TZNAME:EST
DTSTART:20171105T060000
END:STANDARD
END:VTIMEZONE
BEGIN:VEVENT
DTSTART;TZID=America/New_York:20170529T094500
DTEND;TZID=America/New_York:20170529T114500
DTSTAMP:20210401T215210
CREATED:20170529T134500Z
LAST-MODIFIED:20191201T042924Z
UID:365922-1496051100-1496058300@www.patriotguard.org
SUMMARY:State Mission Request for 29 May 2017 from Florida - Memorial Day BBQ Honoring Veterans
DESCRIPTION:Submitted by:\nMember Name:   Ray Doyle\nPosition:   Ride Captain\nCity\, State:   Crestview\, Florida\nUser Name:   Talon Chief\nEmail:   retonaharley@gmail.com\n \nEmail Subject Line Setup\n\nPrefix to Use – Memorial\nSubject Line –   Memorial Day BBQ Honoring Veterans  –  Pensacola\, Florida  – 29 May 2017\n\n\n\n\n\n\n\n\n \n\nMod Instructions:\n\n\n++++++++ Copy the Information above this line++++++++++\n\n \nMemorial Mission\n\n*** DO NOT REPLY *** \nThis is an automated message sent to you because you have subscribed to this State’s Mission thread. For current details on this mission\, please follow the link below. \nMemorial Day BBQ Honoring Veterans \n\nPensacola\, Florida – 29 May 2017\n \n\n\nABOUT THE MISSION:\nThe Eastern Gate Memorial Funeral Home and Garden\, 1985 West Nine Mile Road\, Pensacola\, Florida has invited the Patriot Guard to a Memorial Day BBQ Honoring Veterans.  The Patriot Guard will do a “Ride-through with Flags Flying” honoring Our Heroes who fought for our freedom after which we are invited to stay for a cook out\n\nPRIMARY STAGING DETAILS:  29 May 2017\n\nPrimary Staging Time:  1045 A.M.\nHardee’s\, 2500 Wilde Lake Blvd\nPensacola\, Florida –\n  \n\nRide Captain:\nLee Brady (Stick)\, TSgt (Ret) USAF\n850-217-8142\nleebfd@yahoo.com\n\nSpecial Instructions:\n1115- Safety briefing for all riders\n1140- KSU to Eastern Gate Memorial Funeral Home and Garden\, 1985 West Nine Mile Rd. Pensacola\, Florida\n1145- Arrive and Ride Through the Memorial Gardens with flags flying.\n1200- Chaplain with give the Blessing\n\nFlags & Water:\nFlags Will Not Be Needed\nIf you have large bike flags\, please bring them.\nWater will be provided. \nSubmitted By:  Ray Doyle\nPosition:  Ride Captain \n\nNote:\nYou do not have to own/ride a motorcycle or be a Veteran to join and membership is Free. The only requirement is RESPECT! To join\, simply go to www.PatriotGuard.org and click on Register. Membership is Free. \nTo subscribe to receive mission notices\, log into the National Site and click on the Mission Tab at the top. Select Upcoming Missions by State. Scroll to the state(s) you would like to receive notices for and click on the green check mark. Detailed instructions are also located in the FAQs on the site by clicking on the Quick Links Tab and selecting FAQs.
URL:https://www.patriotguard.org/mission/state-mission-request-for-29-may-2017-from-florida-memorial-day-bbq-honoring-veterans/
LOCATION:David Owen Nicholson
CATEGORIES:Archive
END:VEVENT
END:VCALENDAR