BEGIN:VCALENDAR
VERSION:2.0
PRODID:-//Patriot Guard Riders - ECPv5.3.2.1//NONSGML v1.0//EN
CALSCALE:GREGORIAN
METHOD:PUBLISH
X-WR-CALNAME:Patriot Guard Riders
X-ORIGINAL-URL:https://www.patriotguard.org
X-WR-CALDESC:Events for Patriot Guard Riders
BEGIN:VTIMEZONE
TZID:America/New_York
BEGIN:DAYLIGHT
TZOFFSETFROM:-0500
TZOFFSETTO:-0400
TZNAME:EDT
DTSTART:20170312T070000
END:DAYLIGHT
BEGIN:STANDARD
TZOFFSETFROM:-0400
TZOFFSETTO:-0500
TZNAME:EST
DTSTART:20171105T060000
END:STANDARD
END:VTIMEZONE
BEGIN:VEVENT
DTSTART;TZID=America/New_York:20170329T114500
DTEND;TZID=America/New_York:20170329T134500
DTSTAMP:20210404T192928
CREATED:20170329T154500Z
LAST-MODIFIED:20191201T043741Z
UID:369943-1490787900-1490795100@www.patriotguard.org
SUMMARY:State Mission Request for 29 Mar 2017 from North Carolina - Paul B. Everhart
DESCRIPTION:Submitted by:\nMember Name:   William MacDonald\nPosition:   Ride Captain\nCity\, State:   Advance\, North Carolina\nUser Name:   macfiredog\nEmail:   ggbitw2@gmail.com\n \nEmail Subject Line Setup\n\nPrefix to Use – Honor\nSubject Line – SHORT NOTICE –  Paul B. Everhart \, Veteran\, USA – Korea\,  Lexington\, North Carolina  – 29 Mar 2017\n\n\nSHORT NOTICE!\nSTATEWIDE REQUIRED!\n\n\n\n\n \n\nMod Instructions:\n\n\n++++++++ Copy the Information above this line++++++++++\n\n \nHonor Mission\n\n*** DO NOT REPLY *** \nThis is an automated message sent to you because you have subscribed to this State’s Mission thread. For current details on this mission\, please follow the link below. \nPaul B. Everhart\, Veteran \nUSA  – Korea\nLexington\, North Carolina – 29 Mar 2017\n \n\n\nABOUT THE MISSION:\nFollow Patriots we once again have been requested by the family to stand for Mr. Everhart as he once stood for us. Mr. Everhart was 84 when he passed away at the Hinkle Hospice House. Mr. Everhart was in the US Army from 1953-1955 during the Korean war.\nThe following awards Mr. Everhart earned were the National Defense Service Medal\, and the Good conduct Service award.\n\nPRIMARY STAGING DETAILS:  29 Mar 2017\n\nPrimary Staging Time:  11:45 A.M.\nCenter United Methodist Church\n186 Center Church Rd\nLexington\, North Carolina – 27295\nhttps://tinyurl.com/kjaxos  \n\nRide Captain:\nWilliam “Bear” MacDonald\n[email]ggbitw@@gmail.com[/email]\n336-6956918\n\nSpecial Instructions:\nThis will be a One Day Mission\, Two Part.\nBriefing will be at 12:00 pm right after the briefing we will establish a flag line for Mr. Everhart\, family and friends. Once the services starts we will stand down and prepare for a short escort to the Pilgrim Reformed Church Cemetery in Lexington\, Nc 27295.\n\nFlags & Water:\nFlags Will Be Provided\nIf you have large bike flags\, please bring them.\nWater WILL NOT be provided\, please bring your own. \nSubmitted By:  William MacDonald\nPosition:  Ride Captain \n\nNote:\nYou do not have to own/ride a motorcycle or be a Veteran to join and membership is Free. The only requirement is RESPECT! To join\, simply go to Patriot Guard website and click on Register. Membership is Free. \nTo subscribe to receive mission notices\, log into the National Site and click on the Mission Tab at the top. Select Upcoming Missions by State. Scroll to the state(s) you would like to receive notices for and click on the green check mark. Detailed instructions are also located in the FAQs on the site by clicking on the Quick Links Tab and selecting FAQs.
URL:https://www.patriotguard.org/mission/state-mission-request-for-29-mar-2017-from-north-carolina-paul-b-everhart/
CATEGORIES:Archive
END:VEVENT
END:VCALENDAR