BEGIN:VCALENDAR
VERSION:2.0
PRODID:-//Patriot Guard Riders - ECPv5.3.2.1//NONSGML v1.0//EN
CALSCALE:GREGORIAN
METHOD:PUBLISH
X-WR-CALNAME:Patriot Guard Riders
X-ORIGINAL-URL:https://www.patriotguard.org
X-WR-CALDESC:Events for Patriot Guard Riders
BEGIN:VTIMEZONE
TZID:America/New_York
BEGIN:DAYLIGHT
TZOFFSETFROM:-0500
TZOFFSETTO:-0400
TZNAME:EDT
DTSTART:20170312T070000
END:DAYLIGHT
BEGIN:STANDARD
TZOFFSETFROM:-0400
TZOFFSETTO:-0500
TZNAME:EST
DTSTART:20171105T060000
END:STANDARD
END:VTIMEZONE
BEGIN:VEVENT
DTSTART;TZID=America/New_York:20170928T103000
DTEND;TZID=America/New_York:20170928T123000
DTSTAMP:20210403T075012
CREATED:20170928T143000Z
LAST-MODIFIED:20191201T041414Z
UID:358218-1506594600-1506601800@www.patriotguard.org
SUMMARY:State Mission Request for 28 Sep 2017 from Kentucky - Maynard "Mac" Eugene McKee
DESCRIPTION:Submitted by: \n\nMember Name: Jay Thomas\nPosition: Ride Captain\nCity\, State: Somerset\, Kentucky\nUser Name: jthomas4018\nEmail: jat8104@outlook.com\n\nEmail Subject Line Setup\n[HR][/HR]Prefix to Use – Honor\nSubject Line –  Maynard “Mac” Eugene McKee \, Veteran\, USAF – Vietnam\,  Nicholasville\, Kentucky  – 28 Sep 2017\n[HR][/HR] \n\n\nMod Instructions: \n\n\n++++++++ Copy the Information above this line++++++++++ \n\nHonor Mission\n*** DO NOT REPLY ***  \nMaynard “Mac” Eugene McKee\, Veteran\nUSAF  – Vietnam\nNicholasville\, Kentucky – 28 Sep 2017\n\n\n[HR][/HR]\nABOUT THE MISSION: \n\nThe Patriot Guard Riders have been invited by the family of Maynard “Mac” McKee to stand in his honor.  Mac joined the USAF and stood for his country\, serving in Vietnam.  It is now our turn to stand in honor for Mac. \nFollowing the funeral service The PGR will provide escort to Camp Nelson National Cemetery located at 6980 Danville Rd\, Nicholasville\, KY 40356\n \n\nPRIMARY STAGING DETAILS:  28 Sep 2017\nPrimary Staging Time: 10:30 A.M. \n\nBetts & West Funeral Home\n404 North Main Street\nNicholasville\, KY 40356\nNicholasville\, Kentucky – 40356\n\n\nRide Captain: \n\nDarryl Floyd   606-379-2305\n\n\nSpecial Instructions: \n\nVisitation begins at 11:00 AM – 13:30\nService begins at 13:30\nEscort to Cemetery immediately following service.\n\n\nFlags & Water: \n\nFlags Will Be Provided\nIf you have large bike flags\, please bring them.\nWater WILL NOT be provided\, please bring your own.\n\nSubmitted By: Jay Thomas\nPosition: Ride Captain\n[HR][/HR]Note:\nYou do not have to own/ride a motorcycle or be a Veteran to join and membership is Free. The only requirement is RESPECT! To join\, simply go to www.PatriotGuard.org and click on Register. Membership is Free. \nTo subscribe to receive mission notices\, log into the National Site and click on the Mission Tab at the top. Select the Subscribe to Missions option.
URL:https://www.patriotguard.org/mission/state-mission-request-for-28-sep-2017-from-kentucky-maynard-mac-eugene-mckee/
CATEGORIES:Archive
END:VEVENT
END:VCALENDAR