BEGIN:VCALENDAR
VERSION:2.0
PRODID:-//Patriot Guard Riders - ECPv5.3.2.1//NONSGML v1.0//EN
CALSCALE:GREGORIAN
METHOD:PUBLISH
X-WR-CALNAME:Patriot Guard Riders
X-ORIGINAL-URL:https://www.patriotguard.org
X-WR-CALDESC:Events for Patriot Guard Riders
BEGIN:VTIMEZONE
TZID:America/New_York
BEGIN:DAYLIGHT
TZOFFSETFROM:-0500
TZOFFSETTO:-0400
TZNAME:EDT
DTSTART:20170312T070000
END:DAYLIGHT
BEGIN:STANDARD
TZOFFSETFROM:-0400
TZOFFSETTO:-0500
TZNAME:EST
DTSTART:20171105T060000
END:STANDARD
END:VTIMEZONE
BEGIN:VEVENT
DTSTART;TZID=America/New_York:20171028T113000
DTEND;TZID=America/New_York:20171028T133000
DTSTAMP:20210405T200219
CREATED:20171028T153000Z
LAST-MODIFIED:20191201T041036Z
UID:356357-1509190200-1509197400@www.patriotguard.org
SUMMARY:State Mission Request for 28 Oct 2017 from California - Earl Grooms
DESCRIPTION:Submitted by: \n\nMember Name: William Drummond\nPosition: Assistant State Captain\nCity\, State: Reno\, Nevada\nUser Name: willdrum50\nEmail: willdrum50@gmail.com\n\nEmail Subject Line Setup\n[HR][/HR]Prefix to Use – Honor\nSubject Line –  Earl Grooms \, Veteran\, USA  –  Janesville\, California  – 28 Oct 2017\n[HR][/HR]Mod Instructions:++++++++ Copy the Information above this line++++++++++ \n\nHonor Mission\n*** DO NOT REPLY ***  \nEarl Grooms\, Veteran\nUSA\nJanesville\, California – 28 Oct 2017\n\n\n[HR][/HR]\nABOUT THE MISSION: \n\nOur PGR will post  our Flag Line to honor this hero at his interment service\n\n\nPRIMARY STAGING DETAILS:  28 Oct 2017\nPrimary Staging Time: 11:30 A.M. \n\nJanesville Cemetery\, Janesville CA.\nJanesville\, California –\n\n\nRide Captain: \n\nBill Drummond\n775-276-1847\n\n\nSpecial Instructions:\nFlags & Water: \n\nFlags Will NOT Be Provided\, Please Bring Your Own.\nIf you have large bike flags\, please bring them.\nWater WILL NOT be provided\, please bring your own.\n\nSubmitted By: William Drummond\nPosition: Assistant State Captain\n[HR][/HR]Note:\nYou do not have to own/ride a motorcycle or be a Veteran to join and membership is Free. The only requirement is RESPECT! To join\, simply go to www.PatriotGuard.org and click on Register. Membership is Free. \nTo subscribe to receive mission notices\, log into the National Site and click on the Mission Tab at the top. Select the Subscribe to Missions option. \n**********************************\nHonor\nEarl Grooms\, Veteran\, USA  –  Janesville\, California  – 28 Oct 2017 \nEarl Grooms\, Veteran\nUSA\nJanesville\, California – 28 Oct 2017\n[HR][/HR]\nABOUT THE MISSION: \n\nThe PGR will post a Flag Line to honor this hero at his interment service\n\n\nPRIMARY STAGING DETAILS:  28 Oct 2017\nPrimary Staging Time: 11:30 A.M. \n\nJanesville Cemetery\nJanesville\, California –\n\n\nRide Captain: \n\nBill Drummond\n775-276-1847\n\n\nSpecial Instructions:\n\nFlags & Water: \n\nFlags Will NOT Be Provided\, Please Bring Your Own.\nIf you have large bike flags\, please bring them.\nWater WILL NOT be provided\, please bring your own.\n\n\nSubmitted By: William Drummond\nPosition: Assistant State Captain\n[HR][/HR]Note:\nYou do not have to own/ride a motorcycle or be a Veteran to join and membership is Free. The only requirement is RESPECT! To join\, simply go to www.PatriotGuard.org and click on Register. Membership is Free. \nTo subscribe to receive mission notices\, log into the National Site and click on the Mission Tab at the top. Select the Subscribe to Missions option.
URL:https://www.patriotguard.org/mission/state-mission-request-for-28-oct-2017-from-california-earl-grooms/
LOCATION:Arthu James Gladden III
CATEGORIES:Archive
END:VEVENT
END:VCALENDAR