BEGIN:VCALENDAR
VERSION:2.0
PRODID:-//Patriot Guard Riders - ECPv5.3.2.1//NONSGML v1.0//EN
CALSCALE:GREGORIAN
METHOD:PUBLISH
X-WR-CALNAME:Patriot Guard Riders
X-ORIGINAL-URL:https://www.patriotguard.org
X-WR-CALDESC:Events for Patriot Guard Riders
BEGIN:VTIMEZONE
TZID:America/New_York
BEGIN:DAYLIGHT
TZOFFSETFROM:-0500
TZOFFSETTO:-0400
TZNAME:EDT
DTSTART:20170312T070000
END:DAYLIGHT
BEGIN:STANDARD
TZOFFSETFROM:-0400
TZOFFSETTO:-0500
TZNAME:EST
DTSTART:20171105T060000
END:STANDARD
END:VTIMEZONE
BEGIN:VEVENT
DTSTART;TZID=America/New_York:20170328T103000
DTEND;TZID=America/New_York:20170328T123000
DTSTAMP:20210405T230927
CREATED:20170328T143000Z
LAST-MODIFIED:20191201T043813Z
UID:370225-1490697000-1490704200@www.patriotguard.org
SUMMARY:State Mission Request for 28 Mar 2017 from Virginia - Briah K. Connor\, Jr.\, 82\, Veteran\, USMC
DESCRIPTION:Submitted by:\nMember Name:   Bruce Gentile\nPosition:   State Captain\nCity\, State:   Waldorf\, Maryland\nUser Name:   bgent\nEmail:   bgent295@aol.com\n \nEmail Subject Line Setup\n\nPrefix to Use – ANC\nSubject Line –   Briah K. Connor\, Jr.\, 82\, Veteran\, USMC \, Veteran\, USMC – Vietnam\,  Arlington\,\, Virginia  – 28 Mar 2017\n\n\n\nSTATEWIDE REQUIRED!\n\n\n\n\n \n\nMod Instructions:\nMods: No prior thread exists.  This is an ANC Service\nInfo:  Please send statewide to DC\, MD\, VA\n\n++++++++ Copy the Information above this line++++++++++\n\n \nANC Mission\n\n*** DO NOT REPLY *** \nThis is an automated message sent to you because you have subscribed to this State’s Mission thread. For current details on this mission\, please follow the link below. \nBriah K. Connor\, Jr.\, 82\, Veteran\, USMC\, Veteran \nUSMC  – Vietnam\nArlington\,\, Virginia – 28 Mar 2017\n \n\n\nABOUT THE MISSION:\nCaptain Briah K. Connor Jr.\, 82\, of Frederick\, MD\, died 28 September 2016\, at Northampton Manor\, in Frederick\, MD.\, after a long and courageous battle with cancer due to exposure to Agent Orange.  .  He proudly served this Nation as a United States Marine Corps Officer\, and  saw combat in Vietnam\, with I Corps.  He was the recipient of many awards and commendations.  After his military service he entered Government service as an Oceanographer with NOAA and traveled the world.  He was an avid hunter and fisherman\, played ice hockey as well as softball/baseball\, and was also an umpire.  He is survived by his wife Vanda and leaves a large and loving family. \nCaptain Briah K. Connor Jr.\, is to be interred on the hallowed grounds of Arlington National Cemetery on 28 March 2017 at approximately 1300 hours from the Administration Building.    PGR has been invited to attend the services by his family and we will be there to stand tall silent and proud in honor of this Marine Officer\, his family\, friends and comrades at arms.\n\nPRIMARY STAGING DETAILS:  28 Mar 2017\n\nPrimary Staging Time:  1130 A.M.\nIWO Jima War Memorial\nArlington Ridge Park\,\nArlington\,\, Virginia – 22211\n  \n\nRide Captain:\nRide Captain: Steve Payne @ 703-283-1211 (cell)\n\nSpecial Instructions:\nStage:        1130 hrs.    IWO Jima War Memorial\nBrief:          1145 hrs.\nKSU:          1200 hrs.    Transit to ANC\nHonors:      1300 hrs.    Graveside ANC (Time Approx.) \nIron Horses preferred\, cars welcomed as always.\nMilitary mandated ID / gear NOT required for this mission.\nConcealed/carry permits are NOT recognized on military installations and federal reservations.  Therefore do not bring weapons or hazardous materials to this mission.\n\nFlags & Water:\nFlags Will NOT Be Provided\, Please Bring Your Own.\nLarge Bike Flags will NOT be needed.\nWater WILL NOT be provided\, please bring your own. \nSubmitted By:  Bruce Gentile\nPosition:  State Captain \n\nNote:\nYou do not have to own/ride a motorcycle or be a Veteran to join and membership is Free. The only requirement is RESPECT! To join\, simply go to Patriot Guard website and click on Register. Membership is Free. \nTo subscribe to receive mission notices\, log into the National Site and click on the Mission Tab at the top. Select Upcoming Missions by State. Scroll to the state(s) you would like to receive notices for and click on the green check mark. Detailed instructions are also located in the FAQs on the site by clicking on the Quick Links Tab and selecting FAQs.
URL:https://www.patriotguard.org/mission/state-mission-request-for-28-mar-2017-from-virginia-briah-k-connor-jr-82-veteran-usmc/
CATEGORIES:Archive
END:VEVENT
END:VCALENDAR