BEGIN:VCALENDAR
VERSION:2.0
PRODID:-//Patriot Guard Riders - ECPv5.3.2.1//NONSGML v1.0//EN
CALSCALE:GREGORIAN
METHOD:PUBLISH
X-WR-CALNAME:Patriot Guard Riders
X-ORIGINAL-URL:https://www.patriotguard.org
X-WR-CALDESC:Events for Patriot Guard Riders
BEGIN:VTIMEZONE
TZID:America/New_York
BEGIN:DAYLIGHT
TZOFFSETFROM:-0500
TZOFFSETTO:-0400
TZNAME:EDT
DTSTART:20170312T070000
END:DAYLIGHT
BEGIN:STANDARD
TZOFFSETFROM:-0400
TZOFFSETTO:-0500
TZNAME:EST
DTSTART:20171105T060000
END:STANDARD
END:VTIMEZONE
BEGIN:VEVENT
DTSTART;TZID=America/New_York:20170328T083000
DTEND;TZID=America/New_York:20170328T103000
DTSTAMP:20210401T225556
CREATED:20170328T123000Z
LAST-MODIFIED:20191201T043752Z
UID:370040-1490689800-1490697000@www.patriotguard.org
SUMMARY:State Mission Request for 28 Mar 2017 from New York - Dean C. Gray
DESCRIPTION:Submitted by:\nMember Name:   Ray Sestak\nPosition:   Assistant State Captain\nCity\, State:   Glenmont\, New York\nUser Name:   raysestak\nEmail:   rayspgrny@gmail.com\n \nEmail Subject Line Setup\n\nPrefix to Use – Honor\nSubject Line –   Dean C. Gray \, Veteran\, USN – WWII\,  Albany\, New York  – 28 Mar 2017\n\n\n\n\n\n\n\n\n \n\nMod Instructions:\n\n\n++++++++ Copy the Information above this line++++++++++\n\n \nHonor Mission\n\n*** DO NOT REPLY *** \nThis is an automated message sent to you because you have subscribed to this State’s Mission thread. For current details on this mission\, please follow the link below. \nDean C. Gray\, Veteran \nUSN  – WWII\nAlbany\, New York – 28 Mar 2017\n \n\n\nABOUT THE MISSION:\nThe family of Mr. Dean Carver Gray\, a “Greatest Generation” United States Navy veteran\, has requested Patriot Guard Rider presence at his military honors funeral services. \nNarrative:\nMr. Dean Gray enlisted in the United States Navy in 1944 at the age of 17.  After receiving training at USNTS Sampson in New York\, he attended training schools at Davisville Naval Construction Battalion Center\, R.I. and Naval Construction Battalion Center Port Hueneme in California.  Upon completion of training\, Dean was deployed as a United States Navy Seabee\, and served in Okinawa from August 1944 to May 1946.  He was Honorably discharged  as a Machinist Mate 3rd Class and was awarded the American Theater Medal\, the WWII Victory Medal and Asiatic Pacific Theater Medal. \nHe then worked for GE in Schenectady\, NY for 37 years in the Generator Division. Dean’s greatest accomplishment was his family\, and he was a role model to all of them. Dean was a very positive\, optimistic person\, who never complained or felt sorry for himself. Even during his final difficult days he was more concerned about others. \nThe Patriot Guard Riders will stand proudly\, rendering dignity\, honor and respect for the life and service of Mr. Dean Carver Gray\, proud United States Navy WWII Veteran. \nRay Sestak\nAssistant State Captain\nEastern Region\, PGRNY\nrayspgrny@gmail.com\n(518)669-3358\n\nPRIMARY STAGING DETAILS:  28 Mar 2017\n\nPrimary Staging Time:  08:30 A.M.\nChrist The King Church\n20 Sumter Avenue\nAlbany\, New York – 12203\nhttps://goo.gl/maps/DizCx7DneWN2  \n\nRide Captain:\nRay Sestak\nrayspgrny@gmail.com\n(518)669-3358\n\nSpecial Instructions:\nStaging is 08:30 at the church for the arrival of family.  Calling Hours are 09:00 to 11:00\, followed by a Mass of Christian Burial.  Following the church services\, interment with full military honors will take place at: \nMemory Gardens\n983 Watervliet Shaker Rd.\nAlbany\, NY 12205\n\nFlags & Water:\nFlags Will NOT Be Provided\, Please Bring Your Own.\nLarge Bike Flags will NOT be needed.\nWater WILL NOT be provided\, please bring your own. \nSubmitted By:  Ray Sestak\nPosition:  Assistant State Captain \n\nNote:\nYou do not have to own/ride a motorcycle or be a Veteran to join and membership is Free. The only requirement is RESPECT! To join\, simply go to Patriot Guard website and click on Register. Membership is Free. \nTo subscribe to receive mission notices\, log into the National Site and click on the Mission Tab at the top. Select Upcoming Missions by State. Scroll to the state(s) you would like to receive notices for and click on the green check mark. Detailed instructions are also located in the FAQs on the site by clicking on the Quick Links Tab and selecting FAQs.
URL:https://www.patriotguard.org/mission/state-mission-request-for-28-mar-2017-from-new-york-dean-c-gray/
CATEGORIES:Archive
END:VEVENT
END:VCALENDAR