BEGIN:VCALENDAR
VERSION:2.0
PRODID:-//Patriot Guard Riders - ECPv5.3.2.1//NONSGML v1.0//EN
CALSCALE:GREGORIAN
METHOD:PUBLISH
X-WR-CALNAME:Patriot Guard Riders
X-ORIGINAL-URL:https://www.patriotguard.org
X-WR-CALDESC:Events for Patriot Guard Riders
BEGIN:VTIMEZONE
TZID:America/New_York
BEGIN:DAYLIGHT
TZOFFSETFROM:-0500
TZOFFSETTO:-0400
TZNAME:EDT
DTSTART:20170312T070000
END:DAYLIGHT
BEGIN:STANDARD
TZOFFSETFROM:-0400
TZOFFSETTO:-0500
TZNAME:EST
DTSTART:20171105T060000
END:STANDARD
END:VTIMEZONE
BEGIN:VEVENT
DTSTART;TZID=America/New_York:20170328T124500
DTEND;TZID=America/New_York:20170328T144500
DTSTAMP:20210404T141054
CREATED:20170328T164500Z
LAST-MODIFIED:20191201T043814Z
UID:370229-1490705100-1490712300@www.patriotguard.org
SUMMARY:State Mission Request for 28 Mar 2017 from Missouri - Mark Schroeder
DESCRIPTION:Submitted by:\nMember Name:   Denny Eads\nPosition:   Ride Captain\nCity\, State:   St. Louis\, Missouri\nUser Name:   stldutchman\nEmail:   stldutchman@sbcglobal.net\n \nEmail Subject Line Setup\n\nPrefix to Use – Memorial\nSubject Line –   Mark Schroeder \, Retired\, PGR\, Veteran\, ARNG  –  St. Louis\, Missouri  – 28 Mar 2017\n\n\n\nSTATEWIDE REQUIRED!\n\n\n\n\n \n\nMod Instructions:\nMods please post. This is a memorial for our Ride Captain Mark Schroeder who lost his life in a motor vehicle accident while escorting a funeral to Jefferson Barracks. March 28\, 2016.\nThank you.\n\n++++++++ Copy the Information above this line++++++++++\n\n \nMemorial Mission\n\n*** DO NOT REPLY *** \nThis is an automated message sent to you because you have subscribed to this State’s Mission thread. For current details on this mission\, please follow the link below. \nMark Schroeder\, Retired\, PGR\, Veteran \nARNG \nSt. Louis\, Missouri – 28 Mar 2017\n \n\n\nABOUT THE MISSION:\nWe will gather to honor and remember our fallen Ride Captain\, Mark Schroeder on the first anniversary of his unfortunate death during a funeral escort to Jefferson Barracks. Mark was loved by all that knew him and was a veteran\, a dedicated PGR member\, and was very devoted to honoring our veterans.\n\nPRIMARY STAGING DETAILS:  28 Mar 2017\n\nPrimary Staging Time:  12:45 P.M.\nShell station at Telegraph and Barracksview.\nSt. Louis\, Missouri – 63125\n  \n\nRide Captain:\nRide Captain/Flag support\nDenny Dutchman Eads\n314-277-2821\n\nSpecial Instructions:\nRide Captains wear your ugly hats. Tinker has redone his cross and we will put up a new flag.\n\nFlags & Water:\nFlags Will Be Provided\nLarge Bike Flags will NOT be needed.\nWater will be provided. \nSubmitted By:  Denny Eads\nPosition:  Ride Captain \n\nNote:\nYou do not have to own/ride a motorcycle or be a Veteran to join and membership is Free. The only requirement is RESPECT! To join\, simply go to Patriot Guard website and click on Register. Membership is Free. \nTo subscribe to receive mission notices\, log into the National Site and click on the Mission Tab at the top. Select Upcoming Missions by State. Scroll to the state(s) you would like to receive notices for and click on the green check mark. Detailed instructions are also located in the FAQs on the site by clicking on the Quick Links Tab and selecting FAQs.
URL:https://www.patriotguard.org/mission/state-mission-request-for-28-mar-2017-from-missouri-mark-schroeder/
CATEGORIES:Archive
END:VEVENT
END:VCALENDAR