BEGIN:VCALENDAR
VERSION:2.0
PRODID:-//Patriot Guard Riders - ECPv5.3.2.1//NONSGML v1.0//EN
CALSCALE:GREGORIAN
METHOD:PUBLISH
X-WR-CALNAME:Patriot Guard Riders
X-ORIGINAL-URL:https://www.patriotguard.org
X-WR-CALDESC:Events for Patriot Guard Riders
BEGIN:VTIMEZONE
TZID:America/New_York
BEGIN:DAYLIGHT
TZOFFSETFROM:-0500
TZOFFSETTO:-0400
TZNAME:EDT
DTSTART:20170312T070000
END:DAYLIGHT
BEGIN:STANDARD
TZOFFSETFROM:-0400
TZOFFSETTO:-0500
TZNAME:EST
DTSTART:20171105T060000
END:STANDARD
END:VTIMEZONE
BEGIN:VEVENT
DTSTART;TZID=America/New_York:20170328T113000
DTEND;TZID=America/New_York:20170328T133000
DTSTAMP:20210403T052944
CREATED:20170328T153000Z
LAST-MODIFIED:20191201T043758Z
UID:370089-1490700600-1490707800@www.patriotguard.org
SUMMARY:State Mission Request for 28 Mar 2017 from Illinois - Amn William Michael Knox
DESCRIPTION:Submitted by:\nMember Name:   David Gier\nPosition:   Ride Captain\nCity\, State:   Crestwood\, Illinois\nUser Name:   Bike Dave\nEmail:   davidbgier@sbcglobal.net\n \nEmail Subject Line Setup\n\nPrefix to Use – Honor\nSubject Line –  American Heroes\, Veteran\, USAF – Vietnam\,  Elwood\, Illinois  – 28 Mar 2017\n\n\n\n\n\n\n\nAmerican Heroes Group Mission!\n \n\nMod Instructions:\nPlease Post\n\n++++++++ Copy the Information above this line++++++++++\n\n \nHonor Mission\n\n*** DO NOT REPLY *** \nThis is an automated message sent to you because you have subscribed to this State’s Mission thread. For current details on this mission\, please follow the link below. \nAmerican Heroes\, Veteran \nUSAF  – Vietnam\nElwood\, Illinois – 28 Mar 2017\n \n\n\nABOUT THE MISSION:\nWilliam Knox  Born Sept. 29\, 1940\, He proudly served as an Airman in Vietnam from 1959 to 63 and again 1966 to 67. He was fondly remembered by a desk clerk at a motel where he resided until his passing as a kind man always willing to help anyone. Please join us standing in honor of this fine Patriot.\n\nPRIMARY STAGING DETAILS:  28 Mar 2017\n\nPrimary Staging Time:  11:30 A.M.\nALNC\, PIC Center\n20953 Hoff Rd\nElwood\, Illinois –\n  \n\nRide Captain:\nMIAP IL. State Capt. PGR RC: Roland “Bogie” Boguszewski\n\nSpecial Instructions:\nSTAGE and BRIEF:\n1130hrs 11:30\nService at 12:00noon\nFlag line only\n\nFlags & Water:\nFlags Will Be Provided\nIf you have large bike flags\, please bring them.\nWater WILL NOT be provided\, please bring your own. \nSubmitted By:  David Gier\nPosition:  Ride Captain \n\nNote:\nYou do not have to own/ride a motorcycle or be a Veteran to join and membership is Free. The only requirement is RESPECT! To join\, simply go to Patriot Guard website and click on Register. Membership is Free. \nTo subscribe to receive mission notices\, log into the National Site and click on the Mission Tab at the top. Select Upcoming Missions by State. Scroll to the state(s) you would like to receive notices for and click on the green check mark. Detailed instructions are also located in the FAQs on the site by clicking on the Quick Links Tab and selecting FAQs.
URL:https://www.patriotguard.org/mission/state-mission-request-for-28-mar-2017-from-illinois-amn-william-michael-knox/
CATEGORIES:Archive
END:VEVENT
END:VCALENDAR