BEGIN:VCALENDAR
VERSION:2.0
PRODID:-//Patriot Guard Riders - ECPv5.3.2.1//NONSGML v1.0//EN
CALSCALE:GREGORIAN
METHOD:PUBLISH
X-WR-CALNAME:Patriot Guard Riders
X-ORIGINAL-URL:https://www.patriotguard.org
X-WR-CALDESC:Events for Patriot Guard Riders
BEGIN:VTIMEZONE
TZID:America/New_York
BEGIN:DAYLIGHT
TZOFFSETFROM:-0500
TZOFFSETTO:-0400
TZNAME:EDT
DTSTART:20170312T070000
END:DAYLIGHT
BEGIN:STANDARD
TZOFFSETFROM:-0400
TZOFFSETTO:-0500
TZNAME:EST
DTSTART:20171105T060000
END:STANDARD
END:VTIMEZONE
BEGIN:VEVENT
DTSTART;TZID=America/New_York:20170328T110000
DTEND;TZID=America/New_York:20170328T130000
DTSTAMP:20210404T140909
CREATED:20170328T150000Z
LAST-MODIFIED:20191201T043810Z
UID:370196-1490698800-1490706000@www.patriotguard.org
SUMMARY:State Mission Request for 28 Mar 2017 from Colorado - Richard Vasquez
DESCRIPTION:Submitted by:\nMember Name:   Jim Herstein\nPosition:   State HOTH Coordinator\nCity\, State:   Louisville\, Colorado\nUser Name:   jwherst\nEmail:   jwherst@aol.com\n \nEmail Subject Line Setup\n\nPrefix to Use – Honor\nSubject Line –   Richard Vasquez \, Veteran\, USA  –  Denver\, Colorado  – 28 Mar 2017\n\n\n\n\n\n\n\n\n \n\nMod Instructions:\n\n\n++++++++ Copy the Information above this line++++++++++\n\n \nHonor Mission\n\n*** DO NOT REPLY *** \nThis is an automated message sent to you because you have subscribed to this State’s Mission thread. For current details on this mission\, please follow the link below. \nRichard Vasquez\, Veteran \nUSA \nDenver\, Colorado – 28 Mar 2017\n \n\n\nABOUT THE MISSION:\nThe Patriot Guard Riders have been invited to stand in honor at the Interment Service for Richard Vasquez at Fort Logan National Cemetery\, 3698 South Sheridan Blvd.\, Denver on Tuesday\, March 28\, 2017\, at 11:00AM\, Pavilion A. \nMr. Vasquez was born on December 22\, 1988 and died on March 17\, 2017 at the age of 28. He was a Veteran of the US Army and served from January 4\, 2009 until August 21\, 2014. \n10:15AM – Stage at the Fort Logan Visitors Center\n10:30AM – Mission Briefing\n10:45AM – Depart for Pavilion A to form Flag Line\n\nPRIMARY STAGING DETAILS:  28 Mar 2017\n\nPrimary Staging Time:  11:00 A.M.\nFort Logan Visitors Center\nDenver\, Colorado – 80236\n  \n\nRide Captain:\nTo Be Determined\n\nSpecial Instructions:\n\n\nFlags & Water:\nFlags Will Be Provided\nLarge Bike Flags will NOT be needed.\nWater will be provided. \nSubmitted By:  Jim Herstein\nPosition:  State HOTH Coordinator \n\nNote:\nYou do not have to own/ride a motorcycle or be a Veteran to join and membership is Free. The only requirement is RESPECT! To join\, simply go to Patriot Guard website and click on Register. Membership is Free. \nTo subscribe to receive mission notices\, log into the National Site and click on the Mission Tab at the top. Select Upcoming Missions by State. Scroll to the state(s) you would like to receive notices for and click on the green check mark. Detailed instructions are also located in the FAQs on the site by clicking on the Quick Links Tab and selecting FAQs.
URL:https://www.patriotguard.org/mission/state-mission-request-for-28-mar-2017-from-colorado-richard-vasquez/
CATEGORIES:Archive
END:VEVENT
END:VCALENDAR