BEGIN:VCALENDAR
VERSION:2.0
PRODID:-//Patriot Guard Riders - ECPv5.3.2.1//NONSGML v1.0//EN
CALSCALE:GREGORIAN
METHOD:PUBLISH
X-WR-CALNAME:Patriot Guard Riders
X-ORIGINAL-URL:https://www.patriotguard.org
X-WR-CALDESC:Events for Patriot Guard Riders
BEGIN:VTIMEZONE
TZID:America/New_York
BEGIN:DAYLIGHT
TZOFFSETFROM:-0500
TZOFFSETTO:-0400
TZNAME:EDT
DTSTART:20170312T070000
END:DAYLIGHT
BEGIN:STANDARD
TZOFFSETFROM:-0400
TZOFFSETTO:-0500
TZNAME:EST
DTSTART:20171105T060000
END:STANDARD
END:VTIMEZONE
BEGIN:VEVENT
DTSTART;TZID=America/New_York:20170328T080000
DTEND;TZID=America/New_York:20170328T100000
DTSTAMP:20210404T152926
CREATED:20170328T120000Z
LAST-MODIFIED:20200608T224906Z
UID:369964-1490688000-1490695200@www.patriotguard.org
SUMMARY:State Mission Request for 28 Mar 2017 from Alabama - John Massey Senior
DESCRIPTION:Submitted by:\nMember Name:   Gregory Selman\nPosition:   Ride Captain\nCity\, State:   Axis\, Alabama\nUser Name:   Greg Selman\nEmail:   gbselman@hotmail.com\n\nEmail Subject Line Setup \n\nPrefix to Use – Memorial\nSubject Line – SHORT NOTICE –  John Massey Senior \, Veteran\, USMC – Vietnam\, Mobile\, Alabama – 28 Mar 2017 \n\n  \n\nSHORT NOTICE!\nSTATEWIDE REQUIRED!\n\n\n\nMod Instructions:\nPlease Post to Alabama\n\n++++++++ Copy the Information above this line++++++++++ \n \nMemorial Mission\n*** DO NOT REPLY *** \nThis is an automated message sent to you because you have subscribed to this State’s Mission thread. For current details on this mission\, please follow the link below. \nJohn Massey Senior\, Veteran \nUSMC – Vietnam \nMobile\, Alabama – 28 Mar 2017\n \n\nABOUT THE MISSION: \nFellow Riders\,\nIt is with heavy heart that I must inform you that America has lost another True American Hero… The family of SSgt John Massey Senior\, 77 yrs. old who passed away on 21 March 2017 has requested the Patriot Guard to stand in honor of their loved one. Mr. Massey served in the US Marine Corps for 12 yrs. and 8 months and was Honorably Discharged. SSgt Massey was awarded the Combat Action Ribbon\, the President Unit Citation\, the Good Conduct Medal w/3 clusters\, the Vietnamese Campaign Medal\, the Vietnam Service Medal\, National Defense\, M14 Rife\, and 45 Cal Pistol expert \nVisitation: 1000 – 1100.\, Greater Morning Star Church 401 Donald St. Mobile\, Al\nFuneral Service: 1100 Greater Morning Star Church 401 Donald St Mobile\, Al\nInterment: 1330. at Alabama State Veterans Memorial Cemetery\, Spanish Fort\, AL \nLEO will be provided\nHonor Guard will be Present \nPRIMARY STAGING DETAILS: 28 Mar 2017 \n\nPrimary Staging Time: 0900 A.M.\nTurner Supply Co.\, 250 N. Royal StTime – 0900 hrs\nBriefing: 0915 hrs\nKSU: 0930 hrs\nMobile\, Alabama – 36602\n\n  \n\nRide Captain:\nPhil Brown\, RC – (251) 402-0720\n\n  \n\nSpecial Instructions:\nRC: Will provide the Flags\n\n  \n\nFlags & Water:\nFlags Will NOT Be Provided\, Please Bring Your Own.\nIf you have large bike flags\, please bring them.\nWater WILL NOT be provided\, please bring your own.\n\nSubmitted By:  Gregory Selman\nPosition:  Ride Captain \n\nNote:\nYou do not have to own/ride a motorcycle or be a Veteran to join and membership is Free. The only requirement is RESPECT! To join\, simply go to Patriot Guard website and click on Register. Membership is Free. \nTo subscribe to receive mission notices\, log into the National Site and click on the Mission Tab at the top. Select Upcoming Missions by State. Scroll to the state(s) you would like to receive notices for and click on the green check mark. Detailed instructions are also located in the FAQs on the site by clicking on the Quick Links Tab and selecting FAQs.
URL:https://www.patriotguard.org/mission/state-mission-request-for-28-mar-2017-from-alabama-john-massey-senior/
CATEGORIES:Archive
END:VEVENT
END:VCALENDAR