BEGIN:VCALENDAR
VERSION:2.0
PRODID:-//Patriot Guard Riders - ECPv5.3.2.1//NONSGML v1.0//EN
CALSCALE:GREGORIAN
METHOD:PUBLISH
X-WR-CALNAME:Patriot Guard Riders
X-ORIGINAL-URL:https://www.patriotguard.org
X-WR-CALDESC:Events for Patriot Guard Riders
BEGIN:VTIMEZONE
TZID:America/New_York
BEGIN:DAYLIGHT
TZOFFSETFROM:-0500
TZOFFSETTO:-0400
TZNAME:EDT
DTSTART:20170312T070000
END:DAYLIGHT
BEGIN:STANDARD
TZOFFSETFROM:-0400
TZOFFSETTO:-0500
TZNAME:EST
DTSTART:20171105T060000
END:STANDARD
END:VTIMEZONE
BEGIN:VEVENT
DTSTART;TZID=America/New_York:20170128T131500
DTEND;TZID=America/New_York:20170128T151500
DTSTAMP:20210403T083920
CREATED:20170128T181500Z
LAST-MODIFIED:20191201T044451Z
UID:373570-1485609300-1485616500@www.patriotguard.org
SUMMARY:State Mission Request for 28 Jan 2017 from Missouri - Carl Ron Hurley
DESCRIPTION:Submitted by: \n\nMember Name:   Philip Fels\nPosition:   Ride Captain\nCity\, State:   Strafford\, Missouri\nUser Name:   chief4fels\nEmail:   chief4fels@gmail.com\n\n\nEmail Subject Line Setup\n===========================\nPrefix to Use – Honor\nSubject Line –   Carl Ron Hurley \, Veteran\, USA\, USN  –  Taneyville\, Missouri  – 28 Jan 2017 \n=========================== \n\n\nSTATEWIDE REQUIRED! \n\n\nMod Instructions: \n\n\n\n++++++++ Copy the Information below this line++++++++++ \n\n*** DO NOT REPLY *** \nThis is an automated message sent to you because you have subscribed to this State’s Mission thread. For current details on this mission\, please follow the link below.\nPLACE MISSION LINK HERE\n Honor – Carl Ron Hurley\, Veteran\n    USA\, USN\nTaneyville\, Missouri\n28 Jan 2017\n=============================================\n\n\n\nAbout the Mission:\nHero Hurley enlisted in the US Navy\, 1953 and served 3 yrs. After the Navy he enlisted in the US Army\, 1956 and served 4 yrs.\, with a discharge in 1960. The family said he was a paratrooper in the Army.\nHe also enjoyed working with the Boy Scouts of America and was with them for 50 yrs. \nPrimary Staging Details:  28 Jan 2017\n \n\nPrimary Staging Time:  1:15 P.M.\nHelphrey Cemetery\,  Hwy. AA\nTaneyville\, Missouri – 65759 \n\n\nRide Captain: \n\nRC: Phil ‘Chief’ Fels\nchieffels37@gmail.com\n417-207-3325 \nFlag Support:\nHOTH CPT. Holly Anthony\n417-576-2368\n\n\nSpecial Instructions: \n\nFLAG LINE ONLY at the cemetery. \nBriefing: 1:30 pm\nService: 2:00 pm\nCemetery location is on Hwy. AA\, 1/4 mi. north of it’s junction with State Hwy. 76\, on the north side of Taneyville\, Mo. \nCages are always welcome.\nWeather will be sunny\, mid 40’s\, no chance for rain.\nA group ride will meet at the Fast & Friendly\, Evans Rd. & 65 @ 12:00 noon\n\n\nFlags: \n\nFlags Will Be Provided\n\n\nLarge Bike Flags will NOT be needed.\n\n\nWater will be provided.\n\n\nSubmitted By:   Philip Fels\nPosition:   Ride Captain \n===========================\nNote:\nYou do not have to own/ride a motorcycle or be a Veteran to join and membership is Free. The only requirement is RESPECT! To join\, simply go to www.PatriotGuard.org and click on Register. Membership is Free. \nTo subscribe to receive mission notices\, log into the National Site and click on the Mission Tab at the top. Select Upcoming Missions by State. Scroll to the state(s) you would like to receive notices for and click on the green check mark. Detailed instructions are also located in the FAQs on the site by clicking on the Quick Links Tab and selecting FAQs.
URL:https://www.patriotguard.org/mission/state-mission-request-for-28-jan-2017-from-missouri-carl-ron-hurley/
CATEGORIES:Archive
END:VEVENT
END:VCALENDAR