BEGIN:VCALENDAR
VERSION:2.0
PRODID:-//Patriot Guard Riders - ECPv5.3.2.1//NONSGML v1.0//EN
CALSCALE:GREGORIAN
METHOD:PUBLISH
X-WR-CALNAME:Patriot Guard Riders
X-ORIGINAL-URL:https://www.patriotguard.org
X-WR-CALDESC:Events for Patriot Guard Riders
BEGIN:VTIMEZONE
TZID:America/New_York
BEGIN:DAYLIGHT
TZOFFSETFROM:-0500
TZOFFSETTO:-0400
TZNAME:EDT
DTSTART:20170312T070000
END:DAYLIGHT
BEGIN:STANDARD
TZOFFSETFROM:-0400
TZOFFSETTO:-0500
TZNAME:EST
DTSTART:20171105T060000
END:STANDARD
END:VTIMEZONE
BEGIN:VEVENT
DTSTART;TZID=America/New_York:20170927T100000
DTEND;TZID=America/New_York:20170927T120000
DTSTAMP:20210404T093626
CREATED:20170927T140000Z
LAST-MODIFIED:20191201T041454Z
UID:358590-1506506400-1506513600@www.patriotguard.org
SUMMARY:State Mission Request for 27 Sep 2017 from Nevada - Ernie Anton
DESCRIPTION:Submitted by: \n\nMember Name: Rick Foulon\nPosition: Assistant State Captain\nCity\, State: Las Vegas\, Nevada\nUser Name: marinerick\nEmail: rickfoulon@yahoo.com\n\nEmail Subject Line Setup\n[HR][/HR]Prefix to Use – Honor\nSubject Line –  Ernie Anton \, PGR\, Veteran\, USAF – Vietnam\,  Las Vegas\, Nevada  – 27 Sep 2017\n[HR][/HR] \n\n\nMod Instructions: \n\n\n++++++++ Copy the Information above this line++++++++++ \n\nHonor Mission\n*** DO NOT REPLY ***  \nErnie Anton\, PGR\, Veteran\nUSAF  – Vietnam\nLas Vegas\, Nevada – 27 Sep 2017\n\n\n[HR][/HR]\nABOUT THE MISSION: \n\nErnie Anton was a United States Air Force veteran who served during the Vietnam War.  After serving his country honorably during his active duty\, he continued to serve by becoming a dedicated member of the Patriot Guard Riders of Southern Nevada.\n\n\nPRIMARY STAGING DETAILS:  27 Sep 2017\nPrimary Staging Time: 10:00 A.M. \n\nDavis Funeral Home\nParking lot\n1401 S. Rainbow Blvd.\nLas Vegas\, Nevada – 89146\n\n\nRide Captain: \n\nRick Foulon\nsnvpgr@gmail.com\n702-427-7185\n\n\nSpecial Instructions: \n\n\n\nFlags & Water: \n\nFlags Will NOT Be Provided\, Please Bring Your Own.\nIf you have large bike flags\, please bring them.\nWater WILL NOT be provided\, please bring your own.\n\n[HR][/HR]STAGING #2 DETAILS: 27 Sep\, 2017\nStaging #2 Time: 11:30 A.M. \n\nSouthern Nevada Veterans Memorial Cemetery\n1900 Veteran’s Memorial Dr.\nBoulder City\, Nevada – 89005\n\n\nRide Captain: \n\nRick Foulon\nsnvpgr@gmail.com\n702-427-7185\n\n\nSpecial Instructions: \n\n\n\nFlags & Water: \n\nFlags Will NOT Be Provided\, Please Bring Your Own.\nLarge Bike Flags will be needed\nWater WILL NOT be provided\, please bring your own.\n\n\nSubmitted By: Rick Foulon\nPosition: Assistant State Captain\n[HR][/HR]Note:\nYou do not have to own/ride a motorcycle or be a Veteran to join and membership is Free. The only requirement is RESPECT! To join\, simply go to www.PatriotGuard.org and click on Register. Membership is Free. \nTo subscribe to receive mission notices\, log into the National Site and click on the Mission Tab at the top. Select the Subscribe to Missions option.
URL:https://www.patriotguard.org/mission/state-mission-request-for-27-sep-2017-from-nevada-ernie-anton/
CATEGORIES:Archive
END:VEVENT
END:VCALENDAR