BEGIN:VCALENDAR
VERSION:2.0
PRODID:-//Patriot Guard Riders - ECPv5.3.2.1//NONSGML v1.0//EN
CALSCALE:GREGORIAN
METHOD:PUBLISH
X-WR-CALNAME:Patriot Guard Riders
X-ORIGINAL-URL:https://www.patriotguard.org
X-WR-CALDESC:Events for Patriot Guard Riders
BEGIN:VTIMEZONE
TZID:America/New_York
BEGIN:DAYLIGHT
TZOFFSETFROM:-0500
TZOFFSETTO:-0400
TZNAME:EDT
DTSTART:20170312T070000
END:DAYLIGHT
BEGIN:STANDARD
TZOFFSETFROM:-0400
TZOFFSETTO:-0500
TZNAME:EST
DTSTART:20171105T060000
END:STANDARD
END:VTIMEZONE
BEGIN:VEVENT
DTSTART;TZID=America/New_York:20171027T091500
DTEND;TZID=America/New_York:20171027T111500
DTSTAMP:20210403T032051
CREATED:20171027T131500Z
LAST-MODIFIED:20191201T041057Z
UID:356561-1509095700-1509102900@www.patriotguard.org
SUMMARY:State Mission Request for 27 Oct 2017 from Texas - Jack Charles Setty
DESCRIPTION:Submitted by: \n\nMember Name: M. B. Ingersoll\nPosition: Ride Captain\nCity\, State: Waxahachie\, Texas\nUser Name: BluHog\nEmail: bluhog@gmail.com\n\nEmail Subject Line Setup\n[HR][/HR]Prefix to Use – Honor\nSubject Line –  Jack Charles Setty \, Veteran\, USN  –  Dallas\, Texas  – 27 Oct 2017\n[HR][/HR] \n\n\nMod Instructions: \n\n\n++++++++ Copy the Information above this line++++++++++ \n\nHonor Mission\n*** DO NOT REPLY ***  \nJack Charles Setty\, Veteran\nUSN\nDallas\, Texas – 27 Oct 2017\n\n\n[HR][/HR]\nABOUT THE MISSION: \n\nThe family of SR Setty has asked the Patriot Guard Riders to honor his memory and service to our Country by standing a Flag Line at his Interment Service.\n\n\nPRIMARY STAGING DETAILS:  27 Oct 2017\nPrimary Staging Time: 1015 A.M. \n\nDallas-Fort Worth National Cemetery\n2000 Mountain Creek Parkway\nDallas\, Texas – 75211\nhttps://goo.gl/maps/X4zaD4UhWXw\n\n\nRide Captain: \n\nJammie Yaw\njammie972@yahoo.com\n(972) 467-0724\n\n\nSpecial Instructions: \n\nAfter the Mission Brief\, four designated honor bikes will move to the staging lane and escort the procession. The remainder of the Riders will proceed to the committal shelter\, establish the Flag Line and prepare to receive the family and friends of SR Setty. When directed the Riders will return the flags to storage\, be debriefed and dismissed.\n\n\nFlags & Water: \n\nFlags Will Be Provided\nIf you have large bike flags\, please bring them.\nWater will be provided.\n\nSubmitted By: M. B. Ingersoll\nPosition: Ride Captain\n[HR][/HR]Note:\nYou do not have to own/ride a motorcycle or be a Veteran to join and membership is Free. The only requirement is RESPECT! To join\, simply go to www.PatriotGuard.org and click on Register. Membership is Free. \nTo subscribe to receive mission notices\, log into the National Site and click on the Mission Tab at the top. Select the Subscribe to Missions option.
URL:https://www.patriotguard.org/mission/state-mission-request-for-27-oct-2017-from-texas-jack-charles-setty/
LOCATION:William “Bill” “Dub” Shackleford
CATEGORIES:Archive
END:VEVENT
END:VCALENDAR