BEGIN:VCALENDAR
VERSION:2.0
PRODID:-//Patriot Guard Riders - ECPv5.3.2.1//NONSGML v1.0//EN
CALSCALE:GREGORIAN
METHOD:PUBLISH
X-WR-CALNAME:Patriot Guard Riders
X-ORIGINAL-URL:https://www.patriotguard.org
X-WR-CALDESC:Events for Patriot Guard Riders
BEGIN:VTIMEZONE
TZID:America/New_York
BEGIN:DAYLIGHT
TZOFFSETFROM:-0500
TZOFFSETTO:-0400
TZNAME:EDT
DTSTART:20170312T070000
END:DAYLIGHT
BEGIN:STANDARD
TZOFFSETFROM:-0400
TZOFFSETTO:-0500
TZNAME:EST
DTSTART:20171105T060000
END:STANDARD
END:VTIMEZONE
BEGIN:VEVENT
DTSTART;TZID=America/New_York:20171027T083000
DTEND;TZID=America/New_York:20171027T103000
DTSTAMP:20210403T005826
CREATED:20171027T123000Z
LAST-MODIFIED:20191201T041033Z
UID:356321-1509093000-1509100200@www.patriotguard.org
SUMMARY:State Mission Request for 27 Oct 2017 from Nevada - Thaddeus "Ted" Stanecki
DESCRIPTION:Submitted by: \n\nMember Name: Rick Foulon\nPosition: Assistant State Captain\nCity\, State: Las Vegas\, Nevada\nUser Name: marinerick\nEmail: rickfoulon@yahoo.com\n\nEmail Subject Line Setup\n[HR][/HR]Prefix to Use – Honor\nSubject Line –  Thaddeus “Ted” Stanecki \, Veteran\, USN – WWII\,  Las Vegas\, Nevada  – 27 Oct 2017\n[HR][/HR] \n\n\nMod Instructions: \n\n\n++++++++ Copy the Information above this line++++++++++ \n\nHonor Mission\n*** DO NOT REPLY ***  \nThaddeus “Ted” Stanecki\, Veteran\nUSN  – WWII\nLas Vegas\, Nevada – 27 Oct 2017\n\n\n[HR][/HR]\nABOUT THE MISSION: \n\nThe family of Thaddeus “Ted” Stanecki\, a U.S. Navy veteran who served during WWII\, has requested a PGR escort and flagline at his funeral.\n\n\nPRIMARY STAGING DETAILS:  27 Oct 2017\nPrimary Staging Time: 8:30 A.M. \n\nBunkers Mortuary\nParking lot\n925 Las Vegas Blvd. North\nLas Vegas\, Nevada – 89101\n\n\nRide Captain: \n\nRick Foulon\nsnvpgr@gmail.com\n702-427-7185\n\n\nSpecial Instructions: \n\n\n\nFlags & Water: \n\nFlags Will NOT Be Provided\, Please Bring Your Own.\nIf you have large bike flags\, please bring them.\nWater WILL NOT be provided\, please bring your own.\n\nSubmitted By: Rick Foulon\nPosition: Assistant State Captain\n[HR][/HR]Note:\nYou do not have to own/ride a motorcycle or be a Veteran to join and membership is Free. The only requirement is RESPECT! To join\, simply go to www.PatriotGuard.org and click on Register. Membership is Free. \nTo subscribe to receive mission notices\, log into the National Site and click on the Mission Tab at the top. Select the Subscribe to Missions option.
URL:https://www.patriotguard.org/mission/state-mission-request-for-27-oct-2017-from-nevada-thaddeus-ted-stanecki/
LOCATION:Gearld “Jerry” Hugh Hannah
CATEGORIES:Archive
END:VEVENT
END:VCALENDAR