BEGIN:VCALENDAR
VERSION:2.0
PRODID:-//Patriot Guard Riders - ECPv5.3.2.1//NONSGML v1.0//EN
CALSCALE:GREGORIAN
METHOD:PUBLISH
X-WR-CALNAME:Patriot Guard Riders
X-ORIGINAL-URL:https://www.patriotguard.org
X-WR-CALDESC:Events for Patriot Guard Riders
BEGIN:VTIMEZONE
TZID:America/New_York
BEGIN:DAYLIGHT
TZOFFSETFROM:-0500
TZOFFSETTO:-0400
TZNAME:EDT
DTSTART:20170312T070000
END:DAYLIGHT
BEGIN:STANDARD
TZOFFSETFROM:-0400
TZOFFSETTO:-0500
TZNAME:EST
DTSTART:20171105T060000
END:STANDARD
END:VTIMEZONE
BEGIN:VEVENT
DTSTART;TZID=America/New_York:20171027T100000
DTEND;TZID=America/New_York:20171027T120000
DTSTAMP:20210401T184617
CREATED:20171027T140000Z
LAST-MODIFIED:20191201T041040Z
UID:356392-1509098400-1509105600@www.patriotguard.org
SUMMARY:State Mission Request for 27 Oct 2017 from Illinois - Steven Bruno Abramowicz
DESCRIPTION:Submitted by: \n\nMember Name: David Gier\nPosition: Ride Captain\nCity\, State: Crestwood\, Illinois\nUser Name: Bike Dave\nEmail: davidbgier@sbcglobal.net\n\nEmail Subject Line Setup\n[HR][/HR]Prefix to Use – Honor\nSubject Line –  Steven Bruno Abramowicz \, Veteran\, USMC – Vietnam\,  Chicago\, Illinois  – 27 Oct 2017\n[HR][/HR]Mod Instructions:++++++++ Copy the Information above this line++++++++++ \n\nHonor Mission\n*** DO NOT REPLY ***  \nSteven Bruno Abramowicz\, Veteran\nUSMC  – Vietnam\nChicago\, Illinois – 27 Oct 2017\n\n\n[HR][/HR]\nABOUT THE MISSION: \n\nSteven was a proud veteran of the U.S. Marine Corps who served during the Vietnam War.  His family has requested the presence of The Patriot guard to honor him during a Mass of Remembrance.\n\n\nPRIMARY STAGING DETAILS:  27 Oct 2017\nPrimary Staging Time: 10:00 A.M. \n\nSt. Rita High School Chapel\n7740 S. Western Ave\nChicago\, Illinois –\n\n\nRide Captain: \n\nSRC: bigDave 312 405-2692\n\n\nSpecial Instructions:\nFlags & Water: \n\nFlags Will Be Provided\nIf you have large bike flags\, please bring them.\nWater WILL NOT be provided\, please bring your own.\n\nSubmitted By: David Gier\nPosition: Ride Captain\n[HR][/HR]Note:\nYou do not have to own/ride a motorcycle or be a Veteran to join and membership is Free. The only requirement is RESPECT! To join\, simply go to www.PatriotGuard.org and click on Register. Membership is Free. \nTo subscribe to receive mission notices\, log into the National Site and click on the Mission Tab at the top. Select the Subscribe to Missions option. \n******************************** \nHonor\nSteven Bruno Abramowicz\, Veteran\, USMC – Vietnam\,  Chicago\, Illinois  – 27 Oct 2017 \nSteven Bruno Abramowicz\, Veteran\nUSMC  – Vietnam\nChicago\, Illinois – 27 Oct 2017\n[HR][/HR]\nABOUT THE MISSION: \n\nSteven  was a proud veteran of the U.S. Marine Corps who served during the  Vietnam War.  His family has requested the presence of the Patriot Guard  to honor him during a Mass of Remembrance.\n\n\nPRIMARY STAGING DETAILS:  27 Oct 2017\nPrimary Staging Time: 10:00 A.M. \n\nSt. Rita High School Chapel\n7740 S. Western Ave\nChicago\, Illinois –\n\n\nRide Captain: \n\nbigDave\n312 405-2692\n\n\nSpecial Instructions:\n\nFlags & Water: \n\nFlags Will Be Provided\nIf you have large bike flags\, please bring them.\nWater WILL NOT be provided\, please bring your own.\n\n\nSubmitted By: David Gier\nPosition: Ride Captain\n[HR][/HR]Note:\nYou do not have to own/ride a motorcycle or be a Veteran to join and membership is Free. The only requirement is RESPECT! To join\, simply go to www.PatriotGuard.org and click on Register. Membership is Free. \nTo subscribe to receive mission notices\, log into the National Site and click on the Mission Tab at the top. Select the Subscribe to Missions option.
URL:https://www.patriotguard.org/mission/state-mission-request-for-27-oct-2017-from-illinois-steven-bruno-abramowicz/
CATEGORIES:Archive
END:VEVENT
END:VCALENDAR