BEGIN:VCALENDAR
VERSION:2.0
PRODID:-//Patriot Guard Riders - ECPv5.3.2.1//NONSGML v1.0//EN
CALSCALE:GREGORIAN
METHOD:PUBLISH
X-WR-CALNAME:Patriot Guard Riders
X-ORIGINAL-URL:https://www.patriotguard.org
X-WR-CALDESC:Events for Patriot Guard Riders
BEGIN:VTIMEZONE
TZID:America/New_York
BEGIN:DAYLIGHT
TZOFFSETFROM:-0500
TZOFFSETTO:-0400
TZNAME:EDT
DTSTART:20170312T070000
END:DAYLIGHT
BEGIN:STANDARD
TZOFFSETFROM:-0400
TZOFFSETTO:-0500
TZNAME:EST
DTSTART:20171105T060000
END:STANDARD
END:VTIMEZONE
BEGIN:VEVENT
DTSTART;TZID=America/New_York:20170327T133000
DTEND;TZID=America/New_York:20170327T153000
DTSTAMP:20210402T001828
CREATED:20170327T173000Z
LAST-MODIFIED:20191201T043755Z
UID:370066-1490621400-1490628600@www.patriotguard.org
SUMMARY:State Mission Request for 27 Mar 2017 from New York - Karl W. Horlitz
DESCRIPTION:Submitted by:\nMember Name:   Ray Sestak\nPosition:   Ride Captain\nCity\, State:   Glenmont\, New York\nUser Name:   PGRNYMods\nEmail:   pgrnymod@gmail.com\n \nEmail Subject Line Setup\n\nPrefix to Use – Honor\nSubject Line –   Karl W. Horlitz \, Veteran\, USA – WWII\,  East Hampton\, New York  – 27 Mar 2017\n\n\n\n\n\n\n\n\n \n\nMod Instructions:\n\n\n++++++++ Copy the Information above this line++++++++++\n\n \nHonor Mission\n\n*** DO NOT REPLY *** \nThis is an automated message sent to you because you have subscribed to this State’s Mission thread. For current details on this mission\, please follow the link below. \nKarl W. Horlitz\, Veteran \nUSA  – WWII\nEast Hampton\, New York – 27 Mar 2017\n \n\n\nABOUT THE MISSION:\nWe have been requested by his daughter to stand for her father Karl W. Horlitz\, US ARMY 10th mountain Div.\, WWII\, proud American and a member of the greatest generation.\n\nPRIMARY STAGING DETAILS:  27 Mar 2017\n\nPrimary Staging Time:  1:30 P.M.\nYardley & Pino Funeral home\, 94 Pantigo Rd.\nEast Hampton\, New York –\n  \n\nRide Captain:\nLRC escort\,\nPete Jepson\,\nSRC Region 8 & 9\,\nPatriot Guard Riders of NY\,\n631-922-6330\,\ndoublejli@optonline.net\n\nSpecial Instructions:\nViewing: Monday 03/27/17\, 2-4 pm  &  7-9 pm\,\nService: Tuesday 03/28/17   9:30am\nIncarnation: Lutheran Church\, 1553 Montauk Hwy.\, Bridgehampton\, NY\nBurial: Calverton National Cemetery\, 210 Princeton Blvd.\, Calverton\, NY\nfollowing service ETA 11 to 11:15 am\nPlease remember to bring your flags as no flags on site. Members responding for escort on Tuesday may want to meet at Church at 9 am as travel to East Hampton can be long in the morning. Any questions contact Pete Jepson. \nRC Gene & Sue at Calverton at 10:45 am Tuesday \nPete Jepson\nSRC Region 8 & 9\nPatriot Guard Riders of NY\n631-922-6330\ndoublejli@optonline.net\n\nFlags & Water:\nFlags Will NOT Be Provided\, Please Bring Your Own.\nLarge Bike Flags will NOT be needed.\nWater WILL NOT be provided\, please bring your own. \nSubmitted By:  Ray Sestak\nPosition:  Ride Captain \n\nNote:\nYou do not have to own/ride a motorcycle or be a Veteran to join and membership is Free. The only requirement is RESPECT! To join\, simply go to Patriot Guard website and click on Register. Membership is Free. \nTo subscribe to receive mission notices\, log into the National Site and click on the Mission Tab at the top. Select Upcoming Missions by State. Scroll to the state(s) you would like to receive notices for and click on the green check mark. Detailed instructions are also located in the FAQs on the site by clicking on the Quick Links Tab and selecting FAQs.
URL:https://www.patriotguard.org/mission/state-mission-request-for-27-mar-2017-from-new-york-karl-w-horlitz/
CATEGORIES:Archive
END:VEVENT
END:VCALENDAR