BEGIN:VCALENDAR
VERSION:2.0
PRODID:-//Patriot Guard Riders - ECPv5.3.2.1//NONSGML v1.0//EN
CALSCALE:GREGORIAN
METHOD:PUBLISH
X-WR-CALNAME:Patriot Guard Riders
X-ORIGINAL-URL:https://www.patriotguard.org
X-WR-CALDESC:Events for Patriot Guard Riders
BEGIN:VTIMEZONE
TZID:America/New_York
BEGIN:DAYLIGHT
TZOFFSETFROM:-0500
TZOFFSETTO:-0400
TZNAME:EDT
DTSTART:20170312T070000
END:DAYLIGHT
BEGIN:STANDARD
TZOFFSETFROM:-0400
TZOFFSETTO:-0500
TZNAME:EST
DTSTART:20171105T060000
END:STANDARD
END:VTIMEZONE
BEGIN:VEVENT
DTSTART;TZID=America/New_York:20170427T080000
DTEND;TZID=America/New_York:20170427T100000
DTSTAMP:20210401T223953
CREATED:20170427T120000Z
LAST-MODIFIED:20191201T043351Z
UID:368066-1493280000-1493287200@www.patriotguard.org
SUMMARY:State Mission Request for 27 Apr 2017 from California - Martin Hernandez Sr.
DESCRIPTION:Submitted by:\nMember Name:   Buzz Bickham\nPosition:   Assistant State Captain\nCity\, State:   San Jose\, California\nUser Name:   Buzz Bickham\nEmail:   buzzpgr@gmail.com\n \nEmail Subject Line Setup\n\nPrefix to Use – Memorial\nSubject Line – SHORT NOTICE –  Martin Hernandez Sr. \, Veteran\, USAF – Vietnam\,  MULTI-CITY\, California  – 27 Apr 2017\n\n\nSHORT NOTICE!\n\nMULTI-CITY! See Mod Instructions for Details\n\n\n\n \n\nMod Instructions:\n\n\n++++++++ Copy the Information above this line++++++++++\n\n \nMemorial Mission\n\n*** DO NOT REPLY *** \nThis is an automated message sent to you because you have subscribed to this State’s Mission thread. For current details on this mission\, please follow the link below. \nMartin Hernandez Sr.\, Veteran \nUSAF  – Vietnam\nMULTI-CITY\, California – 27 Apr 2017\n \n\n\nABOUT THE MISSION:\nThe Patriot Guard Riders have been requested to Escort Martin Hernandez to his final resting place. USAF Purple Heart Vietnam Veteran 1969-1974.Please bring your Flags and lets Honor his service.\n\nPRIMARY STAGING DETAILS:  27 Apr 2017\n\nPrimary Staging Time:  0900 A.M.\nLima Campagna Mission Chapel 600 South Second Street.\nSan Jose\, California – 95112\n  \n\nRide Captain:\nTBD Please step up if you can.\n\nSpecial Instructions:\nFor Church Services\n\nFlags & Water:\nFlags Will NOT Be Provided\, Please Bring Your Own.\nIf you have large bike flags\, please bring them.\nWater WILL NOT be provided\, please bring your own. \n\nSTAGING #2 DETAILS:  27 Apr\, 2017\n\n Staging #2 Time:  1000 A.M.\nSacred Heart of Jesus Parish 325 Willow Street\nSan Jose\, California – 95110\n  \n\nRide Captain:\nTBD Please step up if you can.\n\nSpecial Instructions:\nFinal Destination San Joaquin Valley National Cemetery. 32053 W. McCabe Rd. Santa Nella Ca\n\nFlags & Water:\nFlags Will Be Provided\nLarge Bike Flags will be needed\nWater will be provided. \nSubmitted By:  Buzz Bickham\nPosition:  Assistant State Captain \n\nNote:\nYou do not have to own/ride a motorcycle or be a Veteran to join and membership is Free. The only requirement is RESPECT! To join\, simply go to www.PatriotGuard.org and click on Register. Membership is Free. \nTo subscribe to receive mission notices\, log into the National Site and click on the Mission Tab at the top. Select Upcoming Missions by State. Scroll to the state(s) you would like to receive notices for and click on the green check mark. Detailed instructions are also located in the FAQs on the site by clicking on the Quick Links Tab and selecting FAQs.
URL:https://www.patriotguard.org/mission/state-mission-request-for-27-apr-2017-from-california-martin-hernandez-sr/
CATEGORIES:Archive
END:VEVENT
END:VCALENDAR