BEGIN:VCALENDAR
VERSION:2.0
PRODID:-//Patriot Guard Riders - ECPv5.3.2.1//NONSGML v1.0//EN
CALSCALE:GREGORIAN
METHOD:PUBLISH
X-WR-CALNAME:Patriot Guard Riders
X-ORIGINAL-URL:https://www.patriotguard.org
X-WR-CALDESC:Events for Patriot Guard Riders
BEGIN:VTIMEZONE
TZID:America/New_York
BEGIN:DAYLIGHT
TZOFFSETFROM:-0500
TZOFFSETTO:-0400
TZNAME:EDT
DTSTART:20170312T070000
END:DAYLIGHT
BEGIN:STANDARD
TZOFFSETFROM:-0400
TZOFFSETTO:-0500
TZNAME:EST
DTSTART:20171105T060000
END:STANDARD
END:VTIMEZONE
BEGIN:VEVENT
DTSTART;TZID=America/New_York:20171026T113000
DTEND;TZID=America/New_York:20171026T133000
DTSTAMP:20210401T234232
CREATED:20171026T153000Z
LAST-MODIFIED:20191201T041036Z
UID:356359-1509017400-1509024600@www.patriotguard.org
SUMMARY:State Mission Request for 26 Oct 2017 from Georgia - Darryl McGee Sr.
DESCRIPTION:Submitted by: \n\nMember Name: Don Wilson\nPosition: Assistant State Captain\nCity\, State: Perry\, Georgia\nUser Name: mrdonwilson\nEmail: mrdonwilson@yahoo.com\n\nEmail Subject Line Setup\n[HR][/HR]Prefix to Use – Honor\nSubject Line – SHORT NOTICE –  Darryl McGee Sr. \, Veteran\, USA  –  Macon\, Georgia  – 26 Oct 2017\n[HR][/HR] \n\nSHORT NOTICE!\n\nMod Instructions:++++++++ Copy the Information above this line++++++++++ \n\nHonor Mission\n*** DO NOT REPLY ***  \nDarryl McGee\, Sr.\, Veteran\nUSA\nMacon\, Georgia – 26 Oct 2017\n\n\n[HR][/HR]\nABOUT THE MISSION: \n\nThe family of PFC Darryl McGee\, Sr.  USA\, has requested the Patriot Guard to stand in honor of their loved one’s service to America.  It is an honor and privilege to do so. \nPFC McGee enlisted in Detroit MI in 1982 and was discharged from service in 1989 at Ft. Benning\, GA.  His obituary is found at :  http://www.legacy.com/obituaries/macon/obituary.aspx?n=darryl-mcgee&pid=187043960&fhid=4419 \nWe will stand a flag line on Thursday\, 26 October 2017\, from 12 noon until the service starts at 1:00pm. followed by LEO lead escort to Macon Memorial Park.\n \n\nPRIMARY STAGING DETAILS:  26 Oct 2017\nPrimary Staging Time: 11:30 A.M. \n\nMt Moriah Baptist Church\n2789 Millerfield Road\nMacon\, Georgia – 31217\n\n\nRide Captain: \n\nBruce ‘FlagMaster’ Tamker\nbatamker@cox.net\n478-952-3400\n\n\nSpecial Instructions: \n\nWe will stand a flag line as the family and mourners arrive for his service at 1:00 PM.   Following the service we will escort our hero to his final resting place at Macon Memorial Park with LEO support.\n\n\nFlags & Water: \n\nFlags Will Be Provided\nIf you have large bike flags\, please bring them.\nWater will be provided.\n\nSubmitted By: Don Wilson\nPosition: Assistant State Captain\n[HR][/HR]Note:\nYou do not have to own/ride a motorcycle or be a Veteran to join and membership is Free. The only requirement is RESPECT! To join\, simply go to www.PatriotGuard.org and click on Register. Membership is Free. \nTo subscribe to receive mission notices\, log into the National Site and click on the Mission Tab at the top. Select the Subscribe to Missions option. \n*************************\n\nHonor\nDarryl McGee\, Sr.\, Veteran\, USA  –  Macon\, Georgia  – 26 Oct 2017 \nDarryl McGee\, Sr.\, Veteran\nUSA\nMacon\, Georgia – 26 Oct 2017\n[HR][/HR]\nABOUT THE MISSION: \n\nThe  family of PFC Darryl McGee\, Sr.\,  USA\, has requested the Patriot Guard  to stand in honor of their loved one’s service to America.  It is an  honor and privilege to do so. \nPFC McGee enlisted in Detroit\, MI in 1982 and was discharged from service  in 1989 at Ft. Benning\, GA.  His obituary is found at :  http://www.legacy.com/obituaries/macon/obituary.aspx?n=darryl-mcgee&pid=187043960&fhid=4419 \nWe will stand a flag line on Thursday\, 26 October 2017\, from 12 noon  until the service starts at 1:00pm. followed by LEO-led escort to Macon  Memorial Park.\n \n\nPRIMARY STAGING DETAILS:  26 Oct 2017\nPrimary Staging Time: 11:30 A.M. \n\nMt Moriah Baptist Church\n2789 Millerfield Road\nMacon\, Georgia – 31217\n\n\nRide Captain: \n\nBruce ‘FlagMaster’ Tamker\nbatamker@cox.net\n478-952-3400\n\n\nSpecial Instructions: \n\nWe  will stand a flag line as the family and mourners arrive for his service  at 1:00 PM.   Following the service we will escort our hero to his  final resting place at Macon Memorial Park with LEO support.\n\n\nFlags & Water: \n\nFlags Will Be Provided\nIf you have large bike flags\, please bring them.\nWater will be provided.\n\n\nSubmitted By: Don Wilson\nPosition: Assistant State Captain\n[HR][/HR]Note:\nYou do not have to own/ride a motorcycle or be a Veteran to join and membership is Free. The only requirement is RESPECT! To join\, simply go to www.PatriotGuard.org and click on Register. Membership is Free. \nTo subscribe to receive mission notices\, log into the National Site and click on the Mission Tab at the top. Select the Subscribe to Missions option.
URL:https://www.patriotguard.org/mission/state-mission-request-for-26-oct-2017-from-georgia-darryl-mcgee-sr/
LOCATION:Nation of Patriots Event
CATEGORIES:Archive
END:VEVENT
END:VCALENDAR