BEGIN:VCALENDAR
VERSION:2.0
PRODID:-//Patriot Guard Riders - ECPv5.3.2.1//NONSGML v1.0//EN
CALSCALE:GREGORIAN
METHOD:PUBLISH
X-WR-CALNAME:Patriot Guard Riders
X-ORIGINAL-URL:https://www.patriotguard.org
X-WR-CALDESC:Events for Patriot Guard Riders
BEGIN:VTIMEZONE
TZID:America/New_York
BEGIN:DAYLIGHT
TZOFFSETFROM:-0500
TZOFFSETTO:-0400
TZNAME:EDT
DTSTART:20170312T070000
END:DAYLIGHT
BEGIN:STANDARD
TZOFFSETFROM:-0400
TZOFFSETTO:-0500
TZNAME:EST
DTSTART:20171105T060000
END:STANDARD
END:VTIMEZONE
BEGIN:VEVENT
DTSTART;TZID=America/New_York:20170526T153000
DTEND;TZID=America/New_York:20170526T173000
DTSTAMP:20210405T214154
CREATED:20170526T193000Z
LAST-MODIFIED:20191201T042948Z
UID:366113-1495812600-1495819800@www.patriotguard.org
SUMMARY:State Mission Request for 26 May 2017 from Pennsylvania - Ronald G. Gates
DESCRIPTION:Submitted by:\nMember Name:   Dale McGinnis\nPosition:   Ride Captain\nCity\, State:   York\, Pennsylvania\nUser Name:   solomookie\nEmail:   pgrpa.vetrep.east@gmail.com\n \nEmail Subject Line Setup\n\nPrefix to Use – Honor\nSubject Line –   Ronald G. Gates \, Veteran\, USAR  –  Marysville\, Pennsylvania  – 26 May 2017\n\n\n\n\n\n\n\n\n \n\nMod Instructions:\nPlease post and send link.  Thanks.\n\n++++++++ Copy the Information above this line++++++++++\n\n \nHonor Mission\n\n*** DO NOT REPLY *** \nThis is an automated message sent to you because you have subscribed to this State’s Mission thread. For current details on this mission\, please follow the link below. \nRonald G. Gates\, Veteran \nUSAR \nMarysville\, Pennsylvania – 26 May 2017\n \n\n\nABOUT THE MISSION:\nThe family of Ronald G. Gates has requested the Patriot Guard Riders to stand to honor his service to our nation at his funeral\, Friday May 26.  Ronald served in the Army Reserves for six years\, attaining the rank of Staff Sergeant.  Ronald Gates is a patriot who served our country with honor and now it’s our turn to stand and honor him.\n\nPRIMARY STAGING DETAILS:  26 May 2017\n\nPrimary Staging Time:  1230 P.M.\nGlenvale Church of God\n1970 New Valley Road\nMarysville\, Pennsylvania – 17053\nhttps://goo.gl/maps/itNFR9jtvCu  \n\nRide Captain:\nTBA \nMission inquires:\nDale McGinnis\, Veterans Liaison East\nEmail: pgrpa.vetrep.east@gmail.com\nPhone:  717-887-4679\n\nSpecial Instructions:\nStaging:  1230 HRS at the church\nFlag line only; no interment.  Cages welcome.\n\nFlags & Water:\nFlags Will NOT Be Provided\, Please Bring Your Own.\nLarge Bike Flags will NOT be needed.\nWater WILL NOT be provided\, please bring your own. \nSubmitted By:  Dale McGinnis\nPosition:  Ride Captain \n\nNote:\nYou do not have to own/ride a motorcycle or be a Veteran to join and membership is Free. The only requirement is RESPECT! To join\, simply go to www.PatriotGuard.org and click on Register. Membership is Free. \nTo subscribe to receive mission notices\, log into the National Site and click on the Mission Tab at the top. Select Upcoming Missions by State. Scroll to the state(s) you would like to receive notices for and click on the green check mark. Detailed instructions are also located in the FAQs on the site by clicking on the Quick Links Tab and selecting FAQs.
URL:https://www.patriotguard.org/mission/state-mission-request-for-26-may-2017-from-pennsylvania-ronald-g-gates/
LOCATION:Joe E. Moore\, Jr.
CATEGORIES:Archive
END:VEVENT
END:VCALENDAR