BEGIN:VCALENDAR
VERSION:2.0
PRODID:-//Patriot Guard Riders - ECPv5.3.2.1//NONSGML v1.0//EN
CALSCALE:GREGORIAN
METHOD:PUBLISH
X-WR-CALNAME:Patriot Guard Riders
X-ORIGINAL-URL:https://www.patriotguard.org
X-WR-CALDESC:Events for Patriot Guard Riders
BEGIN:VTIMEZONE
TZID:America/New_York
BEGIN:DAYLIGHT
TZOFFSETFROM:-0500
TZOFFSETTO:-0400
TZNAME:EDT
DTSTART:20170312T070000
END:DAYLIGHT
BEGIN:STANDARD
TZOFFSETFROM:-0400
TZOFFSETTO:-0500
TZNAME:EST
DTSTART:20171105T060000
END:STANDARD
END:VTIMEZONE
BEGIN:VEVENT
DTSTART;TZID=America/New_York:20170326T130000
DTEND;TZID=America/New_York:20170326T150000
DTSTAMP:20210401T203818
CREATED:20170326T170000Z
LAST-MODIFIED:20191201T043754Z
UID:370051-1490533200-1490540400@www.patriotguard.org
SUMMARY:State Mission Request for 26 Mar 2017 from Ohio - Amn Gary W. Perry
DESCRIPTION:Submitted by:\nMember Name:   Mike Hamilton\nPosition:   Assistant State Captain\nCity\, State:   West Chester\, Ohio\nUser Name:   mayorham\nEmail:   mayorham@cinci.rr.com\n \nEmail Subject Line Setup\n\nPrefix to Use – Honor\nSubject Line – SHORT NOTICE –  Amn Gary W. Perry \, Veteran\, USAF  –  W. Jefferson\, Ohio  – 26 Mar 2017\n\n\nSHORT NOTICE!\nSTATEWIDE REQUIRED!\n\n\n\n\n \n\nMod Instructions:\n\n\n++++++++ Copy the Information above this line++++++++++\n\n \nHonor Mission\n\n*** DO NOT REPLY *** \nThis is an automated message sent to you because you have subscribed to this State’s Mission thread. For current details on this mission\, please follow the link below. \nAmn Gary W. Perry\, Veteran \nUSAF \nW. Jefferson\, Ohio – 26 Mar 2017\n \n\n\nABOUT THE MISSION:\nAmn Gary W. Perry\, 70\nUnited States Air Force\nVietnam Era Veteran\n\nPRIMARY STAGING DETAILS:  26 Mar 2017\n\nPrimary Staging Time:  1:00 P.M.\nRader-McDonald-Tidd Funeral Home\n1355 W. Main St.\nW. Jefferson\, Ohio – 42162\n  \n\nRide Captain:\nRay Schwabe\nrayschwabe@sbcglobal.net\nBlaise Johnston\nohbassaholic@att.net\n\nSpecial Instructions:\n\n\nFlags & Water:\nFlags Will NOT Be Provided\, Please Bring Your Own.\nLarge Bike Flags will NOT be needed.\nWater WILL NOT be provided\, please bring your own. \n\nSTAGING #2 DETAILS:  27 Mar\, 2017\n\n Staging #2 Time:  12:00 P.M.\nRader-McDonald-Tidd Funeral Home\n1355 W. Main St.\nW. Jefferson\, Ohio – 43126\n  \n\nRide Captain:\nSame as above\n\nSpecial Instructions:\n\n\nFlags & Water:\nFlags Will NOT Be Provided\, Please Bring Your Own.\nLarge Bike Flags will be needed\nWater WILL NOT be provided\, please bring your own. \nSubmitted By:  Mike Hamilton\nPosition:  Assistant State Captain \n\nNote:\nYou do not have to own/ride a motorcycle or be a Veteran to join and membership is Free. The only requirement is RESPECT! To join\, simply go to Patriot Guard website and click on Register. Membership is Free. \nTo subscribe to receive mission notices\, log into the National Site and click on the Mission Tab at the top. Select Upcoming Missions by State. Scroll to the state(s) you would like to receive notices for and click on the green check mark. Detailed instructions are also located in the FAQs on the site by clicking on the Quick Links Tab and selecting FAQs.
URL:https://www.patriotguard.org/mission/state-mission-request-for-26-mar-2017-from-ohio-amn-gary-w-perry/
CATEGORIES:Archive
END:VEVENT
END:VCALENDAR