BEGIN:VCALENDAR
VERSION:2.0
PRODID:-//Patriot Guard Riders - ECPv5.3.2.1//NONSGML v1.0//EN
CALSCALE:GREGORIAN
METHOD:PUBLISH
X-WR-CALNAME:Patriot Guard Riders
X-ORIGINAL-URL:https://www.patriotguard.org
X-WR-CALDESC:Events for Patriot Guard Riders
BEGIN:VTIMEZONE
TZID:America/New_York
BEGIN:DAYLIGHT
TZOFFSETFROM:-0500
TZOFFSETTO:-0400
TZNAME:EDT
DTSTART:20170312T070000
END:DAYLIGHT
BEGIN:STANDARD
TZOFFSETFROM:-0400
TZOFFSETTO:-0500
TZNAME:EST
DTSTART:20171105T060000
END:STANDARD
END:VTIMEZONE
BEGIN:VEVENT
DTSTART;TZID=America/New_York:20170726T071500
DTEND;TZID=America/New_York:20170726T091500
DTSTAMP:20210404T144223
CREATED:20170726T111500Z
LAST-MODIFIED:20191201T042219Z
UID:362382-1501053300-1501060500@www.patriotguard.org
SUMMARY:State Mission Request for 26 Jul 2017 from Florida - HAZEL R. MOBLEY
DESCRIPTION:Submitted by:\nMember Name:   Ray Doyle\nPosition:   Ride Captain\nCity\, State:   Crestview\, Florida\nUser Name:   Talon Chief\nEmail:   retonaharley@gmail.com\n \nEmail Subject Line Setup\n\nPrefix to Use – Honor\nSubject Line – SHORT NOTICE –  HAZEL R. MOBLEY \, PGR –  Pace\, Florida  – 26 Jul 2017\n\n\nSHORT NOTICE!\n\n\n\n\n\n \n\nMod Instructions:\n\n\n++++++++ Copy the Information above this line++++++++++\n\n \nHonor Mission\n\n*** DO NOT REPLY *** \nThis is an automated message sent to you because you have subscribed to this State’s Mission thread. For current details on this mission\, please follow the link below. \nHAZEL R. MOBLEY\, PGR \n\nPace\, Florida – 26 Jul 2017\n \n\n\nABOUT THE MISSION:\nThe family of Hazel Mobley\, has invited the Patriot Guard to escort her from National Cremation and Burial Society\, Milton\, Florida and stand a flag line in her honor at  Cottage Hill Methodist Cemetery\,  229 Williams Ditch Rd\, Cantonment\, FL. Hazel was an active member of the NWFLPGR for about 10 years. Hazel never served in the Armed Forces however she volunteered her time to honor fallen heroes and was a true patriot. National Cremation and Burial Society\, Milton\, FL is in charge of the arrangements.\n\nPRIMARY STAGING DETAILS:  26 Jul 2017\n\nPrimary Staging Time:  0815 A.M.\nWhataburger\, 4983 HWY 90\nPace\, Florida –\n  \n\nRide Captain:\nBryan Stiers\nBEStiers@msn.com\n757-288-5131\n\nSpecial Instructions:\nNote: It is suggested that you wear long sleeve shirts\, long fingered gloves\, long trousers\, DOT approved helmets\, leather footwear covering the ankles\, and appropriate eye wear while operating a motorcycle as part of the PGR. \nParking lot is gravel and grass. Kickstand supports are recommended. \n0900 – Safety Briefing for all riders\n0915 – KSU National Cremation and Burial Society\n0930 – Flag Line\n1000 – Service\n1100 – Roll Time for Cemetery w/LEO\nTBD – Interment at Cottage Hill Methodist Cemetery\n\nFlags & Water:\nFlags Will Be Provided\nIf you have large bike flags\, please bring them.\nWater will be provided. \nSubmitted By:  Ray Doyle\nPosition:  Ride Captain \n\nNote:\nYou do not have to own/ride a motorcycle or be a Veteran to join and membership is Free. The only requirement is RESPECT! To join\, simply go to www.PatriotGuard.org and click on Register. Membership is Free. \nTo subscribe to receive mission notices\, log into the National Site and click on the Mission Tab at the top. Select Upcoming Missions by State. Scroll to the state(s) you would like to receive notices for and click on the green check mark. Detailed instructions are also located in the FAQs on the site by clicking on the Quick Links Tab and selecting FAQs.
URL:https://www.patriotguard.org/mission/state-mission-request-for-26-jul-2017-from-florida-hazel-r-mobley/
CATEGORIES:Archive
END:VEVENT
END:VCALENDAR