BEGIN:VCALENDAR
VERSION:2.0
PRODID:-//Patriot Guard Riders - ECPv5.3.2.1//NONSGML v1.0//EN
CALSCALE:GREGORIAN
METHOD:PUBLISH
X-WR-CALNAME:Patriot Guard Riders
X-ORIGINAL-URL:https://www.patriotguard.org
X-WR-CALDESC:Events for Patriot Guard Riders
BEGIN:VTIMEZONE
TZID:America/New_York
BEGIN:DAYLIGHT
TZOFFSETFROM:-0500
TZOFFSETTO:-0400
TZNAME:EDT
DTSTART:20170312T070000
END:DAYLIGHT
BEGIN:STANDARD
TZOFFSETFROM:-0400
TZOFFSETTO:-0500
TZNAME:EST
DTSTART:20171105T060000
END:STANDARD
END:VTIMEZONE
BEGIN:VEVENT
DTSTART;TZID=America/New_York:20170426T151500
DTEND;TZID=America/New_York:20170426T171500
DTSTAMP:20210405T232536
CREATED:20170426T191500Z
LAST-MODIFIED:20191201T043417Z
UID:368302-1493219700-1493226900@www.patriotguard.org
SUMMARY:State Mission Request for 26 Apr 2017 from Texas - Inurnment Service for 20 Veterans
DESCRIPTION:Submitted by:\nMember Name:   Dan Mathys\nPosition:   Ride Captain\nCity\, State:   Arlington\, Texas\nUser Name:   dpmath\nEmail:   pgrdan1@gmail.com\n \nEmail Subject Line Setup\n\nPrefix to Use – Honor\nSubject Line –   Inurnment Service for 20 Veterans \, Veteran\, USA\, USN\, USMC\, USAF  –  Dallas\, Texas  – 26 Apr 2017\n\n\n\nSTATEWIDE REQUIRED!\n\n\n\n\n \n\nMod Instructions:\n\n\n++++++++ Copy the Information above this line++++++++++\n\n \nHonor Mission\n\n*** DO NOT REPLY *** \nThis is an automated message sent to you because you have subscribed to this State’s Mission thread. For current details on this mission\, please follow the link below. \nInurnment Service for 20 Veterans\, Veteran \nUSA\, USN\, USMC\, USAF \nDallas\, Texas – 26 Apr 2017\n \n\n\nABOUT THE MISSION:\n20 Veteran Inurnment Service\n3 Air Force\, 8 Army\, 3 Marines\, and 6 Navy\n(Two Veterans are Retired) \nThe North Texas Patriot Guard Riders will join with the DFW National Cemetery and Dallas County to honor these veterans and provide the respect they deserve on their last mission.\n\nPRIMARY STAGING DETAILS:  26 Apr 2017\n\nPrimary Staging Time:  1215 P.M.\nDallas-Fort Worth National Cemetery\n2000 Mountain Creek Parkway\nDallas\, Texas – 75211\n  \n\nRide Captain:\nDan Mathys \npgrdan1@gmail.com \n(817) 300-5542\n\nSpecial Instructions:\nThe service will consist of a short invocation by Chaplain Jackson\, followed by rifle volley\, playing of taps\, and folding of four flags (one flag per branch\, one honor guard team per branch). \nThen the Honor Guard will begin presenting flags as the PGR reads off the person’s name and a short history (branch of service\, war periods). Each branch will return to retrieve another flag from the table until all flags are presented. Once completed\, the Chaplain will offer a benediction. \nA few relatives may be present but the PGR has been asked to be able to provide 20 riders to receive the flags if no family or friends are present to receive the flag.\n\nFlags & Water:\nFlags Will Be Provided\nLarge Bike Flags will NOT be needed.\nWater WILL NOT be provided\, please bring your own. \nSubmitted By:  Dan Mathys\nPosition:  Ride Captain \n\nNote:\nYou do not have to own/ride a motorcycle or be a Veteran to join and membership is Free. The only requirement is RESPECT! To join\, simply go to www.PatriotGuard.org and click on Register. Membership is Free. \nTo subscribe to receive mission notices\, log into the National Site and click on the Mission Tab at the top. Select Upcoming Missions by State. Scroll to the state(s) you would like to receive notices for and click on the green check mark. Detailed instructions are also located in the FAQs on the site by clicking on the Quick Links Tab and selecting FAQs.
URL:https://www.patriotguard.org/mission/state-mission-request-for-26-apr-2017-from-texas-inurnment-service-for-20-veterans/
LOCATION:William Joseph McKeown
CATEGORIES:Archive
END:VEVENT
END:VCALENDAR