BEGIN:VCALENDAR
VERSION:2.0
PRODID:-//Patriot Guard Riders - ECPv5.3.2.1//NONSGML v1.0//EN
CALSCALE:GREGORIAN
METHOD:PUBLISH
X-WR-CALNAME:Patriot Guard Riders
X-ORIGINAL-URL:https://www.patriotguard.org
X-WR-CALDESC:Events for Patriot Guard Riders
BEGIN:VTIMEZONE
TZID:America/New_York
BEGIN:DAYLIGHT
TZOFFSETFROM:-0500
TZOFFSETTO:-0400
TZNAME:EDT
DTSTART:20170312T070000
END:DAYLIGHT
BEGIN:STANDARD
TZOFFSETFROM:-0400
TZOFFSETTO:-0500
TZNAME:EST
DTSTART:20171105T060000
END:STANDARD
END:VTIMEZONE
BEGIN:VEVENT
DTSTART;TZID=America/New_York:20170426T101500
DTEND;TZID=America/New_York:20170426T121500
DTSTAMP:20210405T232651
CREATED:20170426T141500Z
LAST-MODIFIED:20191201T043404Z
UID:368178-1493201700-1493208900@www.patriotguard.org
SUMMARY:State Mission Request for 26 Apr 2017 from Arizona - Arthur W. Neitch
DESCRIPTION:Submitted by:\nMember Name:   Tom Burns\nPosition:   State Captain\nCity\, State:   Phoenix\, Arizona\nUser Name:   tgburns55\nEmail:   tgburns55@hotmail.com\n \nEmail Subject Line Setup\n\nPrefix to Use – Honor\nSubject Line – SHORT NOTICE –  Arthur W. Neitch \, Veteran\, USA – Korea\,  Glendale\, Arizona  – 26 Apr 2017\n\n\nSHORT NOTICE!\n\n\n\n\n\n \n\nMod Instructions:\n\n\n++++++++ Copy the Information above this line++++++++++\n\n \nHonor Mission\n\n*** DO NOT REPLY *** \nThis is an automated message sent to you because you have subscribed to this State’s Mission thread. For current details on this mission\, please follow the link below. \nArthur W. Neitch\, Veteran \nUSA  – Korea\nGlendale\, Arizona – 26 Apr 2017\n \n\n\nABOUT THE MISSION:\nThe AZ PGR has been requested by the family of U. S. Army\, Korean War Veteran\, Arthur W. Neitch\, to stand a flag line at his service \nArthur served in the U.S. Army May 1952 to April 1954 and obtained the rank of Corporal. During his time in the Army with Co. C\, 5th Cav. Regiment\, Arthur served one year in Korea\, he was awarded “National Defense Service Medal\, Korean Service Medal W/1 Bronze SVC Star\, United Nations Service Medal. He also attended Basic Mountaineering school.\n\nPRIMARY STAGING DETAILS:  26 Apr 2017\n\nPrimary Staging Time:  10:15 A.M.\nChapel of the Chimes\, 7924 North 59th Ave\nGlendale\, Arizona – 85301\n  \n\nRide Captain:\nRide Captain:   Patrick Halliday\, 253-988-7110 (cell)\, poh1@comcast.net \nFlag Support Vehicle Person:   Bill Johnson \nSenior Road Guard: Doug “Skully” Pierson\n\nSpecial Instructions:\nBriefing Time:    1045 \nAt the completion of our briefing\, we will stand a flag line from 1100 to 1130. \nKSU: Approx 12:15 p.m.\, at the completion of service\n\nFlags & Water:\nFlags Will Be Provided\nIf you have large bike flags\, please bring them.\nWater will be provided. \n\nSTAGING #2 DETAILS:  26 Apr\, 2017\n\n Staging #2 Time:  11:45 A.M.\nResthaven Park Cemetery\,\n6450 West Northern Ave\nGlendale\, Arizona – 85301\n  \n\nRide Captain:\nRide Captain:   Patrick Halliday\, 253-988-7110 (cell)\, poh1@comcast.net \nFlag Support Vehicle Person:   Bill Johnson \nSenior Road Guard: Doug “Skully” Pierson\n\nSpecial Instructions:\nFlags in place for arrival of our Hero at graveside for Military Honors\n\nFlags & Water:\nFlags Will Be Provided\nLarge Bike Flags will be needed\nWater will be provided. \nSubmitted By:  Tom Burns\nPosition:  State Captain \n\nNote:\nYou do not have to own/ride a motorcycle or be a Veteran to join and membership is Free. The only requirement is RESPECT! To join\, simply go to www.PatriotGuard.org and click on Register. Membership is Free. \nTo subscribe to receive mission notices\, log into the National Site and click on the Mission Tab at the top. Select Upcoming Missions by State. Scroll to the state(s) you would like to receive notices for and click on the green check mark. Detailed instructions are also located in the FAQs on the site by clicking on the Quick Links Tab and selecting FAQs.
URL:https://www.patriotguard.org/mission/state-mission-request-for-26-apr-2017-from-arizona-arthur-w-neitch/
CATEGORIES:Archive
END:VEVENT
END:VCALENDAR