BEGIN:VCALENDAR
VERSION:2.0
PRODID:-//Patriot Guard Riders - ECPv5.3.2.1//NONSGML v1.0//EN
CALSCALE:GREGORIAN
METHOD:PUBLISH
X-WR-CALNAME:Patriot Guard Riders
X-ORIGINAL-URL:https://www.patriotguard.org
X-WR-CALDESC:Events for Patriot Guard Riders
BEGIN:VTIMEZONE
TZID:America/New_York
BEGIN:DAYLIGHT
TZOFFSETFROM:-0500
TZOFFSETTO:-0400
TZNAME:EDT
DTSTART:20170312T070000
END:DAYLIGHT
BEGIN:STANDARD
TZOFFSETFROM:-0400
TZOFFSETTO:-0500
TZNAME:EST
DTSTART:20171105T060000
END:STANDARD
END:VTIMEZONE
BEGIN:VEVENT
DTSTART;TZID=America/New_York:20170925T133000
DTEND;TZID=America/New_York:20170925T153000
DTSTAMP:20210405T202900
CREATED:20170925T173000Z
LAST-MODIFIED:20191201T041426Z
UID:358321-1506346200-1506353400@www.patriotguard.org
SUMMARY:State Mission Request for 25 Sep 2017 from Illinois - Ernest Little
DESCRIPTION:Submitted by: \n\nMember Name: Judi Hamilton\nPosition: Ride Captain\nCity\, State: Vergennes\, Illinois\nUser Name: Judi\nEmail: larryjudi89@gmail.com\n\nEmail Subject Line Setup\n[HR][/HR]Prefix to Use – Honor\nSubject Line –  Ernest Little \, Retired\, USAF  –  Rossville\, Illinois  – 25 Sep 2017\n[HR][/HR] \n\n\nMod Instructions: \n\n\n++++++++ Copy the Information above this line++++++++++ \n\nHonor Mission\n*** DO NOT REPLY ***  \nErnest Little\, Retired\nUSAF\nRossville\, Illinois – 25 Sep 2017\n\n\n[HR][/HR]\nABOUT THE MISSION: \n\nThe family of Ernest Little have asked the Patriot Guard to stand a flagline at Mr. Littles Graveside service.  Ernest served in The U. S. Air Force for 32 Years. \nFull Military Honors will be conducted by Hoopston American Legion Post 384\n \n\nPRIMARY STAGING DETAILS:  25 Sep 2017\nPrimary Staging Time: 1:30 P.M. \n\nRossville Cemetery\, West Greenwood Dr\nRossville\, Illinois –\n\n\nRide Captain: \n\nRide Captain:  Mike Longfellow  (217) 260-4794 \nSupport:  Pete Powell   (217) 304-1967\n \n\nSpecial Instructions: \n\nFlag line only\, graveside service\n\n\nFlags & Water: \n\nFlags Will Be Provided\nLarge Bike Flags will NOT be needed.\nWater WILL NOT be provided\, please bring your own.\n\nSubmitted By: Judi Hamilton\nPosition: Ride Captain\n[HR][/HR]Note:\nYou do not have to own/ride a motorcycle or be a Veteran to join and membership is Free. The only requirement is RESPECT! To join\, simply go to www.PatriotGuard.org and click on Register. Membership is Free. \nTo subscribe to receive mission notices\, log into the National Site and click on the Mission Tab at the top. Select the Subscribe to Missions option.
URL:https://www.patriotguard.org/mission/state-mission-request-for-25-sep-2017-from-illinois-ernest-little/
LOCATION:Ms. Norma D. Lewis
CATEGORIES:Archive
END:VEVENT
END:VCALENDAR